BEGIN:VCALENDAR
VERSION:2.0
PRODID:-//Muusikute fond PLMF - ECPv6.15.17.1//NONSGML v1.0//EN
CALSCALE:GREGORIAN
METHOD:PUBLISH
X-ORIGINAL-URL:https://plmf.ee
X-WR-CALDESC:Events for Muusikute fond PLMF
REFRESH-INTERVAL;VALUE=DURATION:PT1H
X-Robots-Tag:noindex
X-PUBLISHED-TTL:PT1H
BEGIN:VTIMEZONE
TZID:Europe/Helsinki
BEGIN:DAYLIGHT
TZOFFSETFROM:+0200
TZOFFSETTO:+0300
TZNAME:EEST
DTSTART:20190331T010000
END:DAYLIGHT
BEGIN:STANDARD
TZOFFSETFROM:+0300
TZOFFSETTO:+0200
TZNAME:EET
DTSTART:20191027T010000
END:STANDARD
BEGIN:DAYLIGHT
TZOFFSETFROM:+0200
TZOFFSETTO:+0300
TZNAME:EEST
DTSTART:20200329T010000
END:DAYLIGHT
BEGIN:STANDARD
TZOFFSETFROM:+0300
TZOFFSETTO:+0200
TZNAME:EET
DTSTART:20201025T010000
END:STANDARD
BEGIN:DAYLIGHT
TZOFFSETFROM:+0200
TZOFFSETTO:+0300
TZNAME:EEST
DTSTART:20210328T010000
END:DAYLIGHT
BEGIN:STANDARD
TZOFFSETFROM:+0300
TZOFFSETTO:+0200
TZNAME:EET
DTSTART:20211031T010000
END:STANDARD
END:VTIMEZONE
BEGIN:VEVENT
DTSTART;TZID=Europe/Helsinki:20201122T180000
DTEND;TZID=Europe/Helsinki:20201122T190000
DTSTAMP:20260422T152701
CREATED:20201111T073646Z
LAST-MODIFIED:20201111T073646Z
UID:39830-1606068000-1606071600@plmf.ee
SUMMARY:Mõeldes Georg Otsale / Olga Zaitseva (sopran)\, Ralf Taal (klaver)
DESCRIPTION:
URL:https://plmf.ee/kontsert/moeldes-georg-otsale-olga-zaitseva-sopran-ralf-taal-klaver/
LOCATION:Turba kultuurimaja\, Lehetu tee 12\, Turba\, Nissi\, 76201 Harju maakond
CATEGORIES:Kontserdid
ATTACH;FMTTYPE=image/jpeg:https://plmf.ee/wp-content/uploads/2020/11/800x600_tunnuspilt_22_11_20_Turba_GO_Zaitseva_Taal.jpg
ORGANIZER;CN="Pille Lille Muusikute Fond":MAILTO:plmf@plmf.ee
GEO:59.0749673;24.2432118
X-APPLE-STRUCTURED-LOCATION;VALUE=URI;X-ADDRESS=Turba kultuurimaja Lehetu tee 12 Turba Nissi 76201 Harju maakond;X-APPLE-RADIUS=500;X-TITLE=Lehetu tee 12\, Turba\, Nissi\, 76201 Harju maakond:geo:24.2432118,59.0749673
END:VEVENT
BEGIN:VEVENT
DTSTART;TZID=Europe/Helsinki:20201016T180000
DTEND;TZID=Europe/Helsinki:20201016T190000
DTSTAMP:20260422T152701
CREATED:20200928T042611Z
LAST-MODIFIED:20200928T042642Z
UID:39153-1602871200-1602874800@plmf.ee
SUMMARY:Tšelloduo Andreas Lend ja Marius Järvi
DESCRIPTION:
URL:https://plmf.ee/kontsert/tselloduo-andreas-lend-ja-marius-jarvi/
LOCATION:Turba kultuurimaja\, Lehetu tee 12\, Turba\, Nissi\, 76201 Harju maakond
CATEGORIES:Kontserdid
ATTACH;FMTTYPE=image/jpeg:https://plmf.ee/wp-content/uploads/2020/09/800x600_tunnuspilt_16_10_2020_Turba_Lend_J2rvi.jpg
ORGANIZER;CN="Pille Lille Muusikute Fond":MAILTO:plmf@plmf.ee
GEO:59.0749673;24.2432118
X-APPLE-STRUCTURED-LOCATION;VALUE=URI;X-ADDRESS=Turba kultuurimaja Lehetu tee 12 Turba Nissi 76201 Harju maakond;X-APPLE-RADIUS=500;X-TITLE=Lehetu tee 12\, Turba\, Nissi\, 76201 Harju maakond:geo:24.2432118,59.0749673
END:VEVENT
END:VCALENDAR