BEGIN:VCALENDAR
VERSION:2.0
PRODID:-//Muusikute fond PLMF - ECPv6.15.17.1//NONSGML v1.0//EN
CALSCALE:GREGORIAN
METHOD:PUBLISH
X-ORIGINAL-URL:https://plmf.ee
X-WR-CALDESC:Events for Muusikute fond PLMF
REFRESH-INTERVAL;VALUE=DURATION:PT1H
X-Robots-Tag:noindex
X-PUBLISHED-TTL:PT1H
BEGIN:VTIMEZONE
TZID:Europe/Helsinki
BEGIN:DAYLIGHT
TZOFFSETFROM:+0200
TZOFFSETTO:+0300
TZNAME:EEST
DTSTART:20200329T010000
END:DAYLIGHT
BEGIN:STANDARD
TZOFFSETFROM:+0300
TZOFFSETTO:+0200
TZNAME:EET
DTSTART:20201025T010000
END:STANDARD
BEGIN:DAYLIGHT
TZOFFSETFROM:+0200
TZOFFSETTO:+0300
TZNAME:EEST
DTSTART:20210328T010000
END:DAYLIGHT
BEGIN:STANDARD
TZOFFSETFROM:+0300
TZOFFSETTO:+0200
TZNAME:EET
DTSTART:20211031T010000
END:STANDARD
BEGIN:DAYLIGHT
TZOFFSETFROM:+0200
TZOFFSETTO:+0300
TZNAME:EEST
DTSTART:20220327T010000
END:DAYLIGHT
BEGIN:STANDARD
TZOFFSETFROM:+0300
TZOFFSETTO:+0200
TZNAME:EET
DTSTART:20221030T010000
END:STANDARD
END:VTIMEZONE
BEGIN:VTIMEZONE
TZID:Europe/Moscow
BEGIN:STANDARD
TZOFFSETFROM:+0300
TZOFFSETTO:+0300
TZNAME:MSK
DTSTART:20160101T000000
END:STANDARD
END:VTIMEZONE
BEGIN:VEVENT
DTSTART;TZID=Europe/Helsinki:20210815T150000
DTEND;TZID=Europe/Helsinki:20210815T160000
DTSTAMP:20260424T090348
CREATED:20210812T103227Z
LAST-MODIFIED:20210812T103227Z
UID:43010-1629039600-1629043200@plmf.ee
SUMMARY:Hingetoit - Veldi / Tamm
DESCRIPTION:Virgo Veldi (saksofon) ja Kristjan Tamm (kitarr)\n15. august kell 15:00\nTartu Maarja kirik\nKavas: Bach\, Eespere\, Kõrvits\, Uusberg\, Domeniconi jt
URL:https://plmf.ee/kontsert/hingetoit-veldi-tamm-2/
LOCATION:Tartu Maarja kirik\, Õpetaja 5\, Tartu\, Tartumaa\, 51003\, Estonia
CATEGORIES:Kontserdid
ATTACH;FMTTYPE=image/jpeg:https://plmf.ee/wp-content/uploads/2021/08/Tartu-Maarja-kirik_klots_kodulehele_.jpg
ORGANIZER;CN="Pille Lille Muusikute Fond":MAILTO:plmf@plmf.ee
GEO:58.3749919;26.7169506
X-APPLE-STRUCTURED-LOCATION;VALUE=URI;X-ADDRESS=Tartu Maarja kirik Õpetaja 5 Tartu Tartumaa 51003 Estonia;X-APPLE-RADIUS=500;X-TITLE=Õpetaja 5:geo:26.7169506,58.3749919
END:VEVENT
BEGIN:VEVENT
DTSTART;TZID=Europe/Helsinki:20210528T190000
DTEND;TZID=Europe/Helsinki:20210528T200000
DTSTAMP:20260424T090348
CREATED:20210518T104412Z
LAST-MODIFIED:20210518T104437Z
UID:41819-1622228400-1622232000@plmf.ee
SUMMARY:Kirikute öö / Akordioniduo
DESCRIPTION:Tartu Maarja kirik\n28.05 kell 19.00\nKIRIKUTE ÖÖ\nakordioniduo Henri Zibo ja Mikk Langeproon\nKavas: Tšaikovski\, Mussorgski\, Boëllmann jt \n\nVabaannetus Tartu Maarja kiriku ülesehitamise heaks!
URL:https://plmf.ee/kontsert/41819/
LOCATION:Tartu Maarja kirik\, Õpetaja 5\, Tartu\, Tartumaa\, 51003\, Estonia
CATEGORIES:Kontserdid
ATTACH;FMTTYPE=image/jpeg:https://plmf.ee/wp-content/uploads/2021/05/28_05_21_TartuMaarja_Zibo_Langeproon_tunnuspilt_800x600-1.jpg
ORGANIZER;CN="Pille Lille Muusikute Fond":MAILTO:plmf@plmf.ee
GEO:58.3749919;26.7169506
X-APPLE-STRUCTURED-LOCATION;VALUE=URI;X-ADDRESS=Tartu Maarja kirik Õpetaja 5 Tartu Tartumaa 51003 Estonia;X-APPLE-RADIUS=500;X-TITLE=Õpetaja 5:geo:26.7169506,58.3749919
END:VEVENT
BEGIN:VEVENT
DTSTART;TZID=Europe/Moscow:20180525T200000
DTEND;TZID=Europe/Moscow:20180525T203000
DTSTAMP:20260424T090348
CREATED:20180427T092451Z
LAST-MODIFIED:20180514T100905Z
UID:29328-1527278400-1527280200@plmf.ee
SUMMARY:Kirikute öö kontsert
DESCRIPTION: \nKirikute öö kontsert toimub 25.  mai kell 20.00\nTartu Maarja kiriku koguduse saalis.\nEsinevad H. Elleri Muusikakooli saksofoniansambel SaxMachine\nkoosseisus: sopransaksofon ja altsaksofon – Aleksander Strelkov\, Ursula Chillaud\, altsaksofonid – Mart Nikopensius\, Karol Henrik Vana\, Thomas Marten Sepping\, tenorsaksofon – Ott Eric Ottender\, baritonsaksofonid – Saamel Sonn\, Tarvi Leppoja. Kavas: Vivaldi\, Granados\, Naissoo jt.\n 
URL:https://plmf.ee/kontsert/kirikute-oo-kontsert/
LOCATION:Tartu Maarja kirik\, Õpetaja 5\, Tartu\, Tartumaa\, 51003\, Estonia
ATTACH;FMTTYPE=image/jpeg:https://plmf.ee/wp-content/uploads/2018/04/E-Plakat-Tartu-Maarja-kiriku-koguduse-saal-25.05.jpg
ORGANIZER;CN="Music Trust PLMF":MAILTO:plmf@plmf.ee
GEO:58.3749919;26.7169506
X-APPLE-STRUCTURED-LOCATION;VALUE=URI;X-ADDRESS=Tartu Maarja kirik Õpetaja 5 Tartu Tartumaa 51003 Estonia;X-APPLE-RADIUS=500;X-TITLE=Õpetaja 5:geo:26.7169506,58.3749919
END:VEVENT
BEGIN:VEVENT
DTSTART;TZID=Europe/Moscow:20180314T110000
DTEND;TZID=Europe/Moscow:20180314T130000
DTSTAMP:20260424T090348
CREATED:20180117T150217Z
LAST-MODIFIED:20180127T141613Z
UID:28258-1521025200-1521032400@plmf.ee
SUMMARY:Pillid on meie sõbrad
DESCRIPTION:14. märts kell 11.00 ja kell 12.00\nTartu Maarja koguduse maja (Õpetaja tn 5)\nSigrid Kuulmann (viiul)\nRalf Taal (klaver)
URL:https://plmf.ee/kontsert/pillid-on-meie-sobrad/
LOCATION:Tartu Maarja kirik\, Õpetaja 5\, Tartu\, Tartumaa\, 51003\, Estonia
CATEGORIES:Koolikontserdid
ATTACH;FMTTYPE=image/jpeg:https://plmf.ee/wp-content/uploads/2018/01/Plakat_Tartu_Maarja_Pillidonmeiesõbrad_1403_veebi-1.jpg
GEO:58.3749919;26.7169506
X-APPLE-STRUCTURED-LOCATION;VALUE=URI;X-ADDRESS=Tartu Maarja kirik Õpetaja 5 Tartu Tartumaa 51003 Estonia;X-APPLE-RADIUS=500;X-TITLE=Õpetaja 5:geo:26.7169506,58.3749919
END:VEVENT
BEGIN:VEVENT
DTSTART;TZID=Europe/Moscow:20171217T133000
DTEND;TZID=Europe/Moscow:20171217T133000
DTSTAMP:20260424T090348
CREATED:20171206T213953Z
LAST-MODIFIED:20171206T214412Z
UID:26623-1513517400-1513517400@plmf.ee
SUMMARY:Jõuluootus
DESCRIPTION:17. detsember kell 13.30\nTartu Maarja Kogudusemaja saal (Õpetajate tn.5) \nAndreas Lend (tšello)\nAgni-Sandia Hallik (kitarr) \nkaastegev sopran Pille Lill\nSissepääs annetusega Tartu Maarja kiriku ülesehitamise heaks!
URL:https://plmf.ee/kontsert/jouluootus-2/
LOCATION:Tartu Maarja kirik\, Õpetaja 5\, Tartu\, Tartumaa\, 51003\, Estonia
CATEGORIES:Kontserdid
ATTACH;FMTTYPE=image/jpeg:https://plmf.ee/wp-content/uploads/2017/12/Tartu_17.12_internetti-1.jpg
ORGANIZER;CN="Music Trust PLMF":MAILTO:plmf@plmf.ee
GEO:58.3749919;26.7169506
X-APPLE-STRUCTURED-LOCATION;VALUE=URI;X-ADDRESS=Tartu Maarja kirik Õpetaja 5 Tartu Tartumaa 51003 Estonia;X-APPLE-RADIUS=500;X-TITLE=Õpetaja 5:geo:26.7169506,58.3749919
END:VEVENT
END:VCALENDAR