BEGIN:VCALENDAR
VERSION:2.0
PRODID:-//Muusikute fond PLMF - ECPv6.15.17.1//NONSGML v1.0//EN
CALSCALE:GREGORIAN
METHOD:PUBLISH
X-ORIGINAL-URL:https://plmf.ee
X-WR-CALDESC:Events for Muusikute fond PLMF
REFRESH-INTERVAL;VALUE=DURATION:PT1H
X-Robots-Tag:noindex
X-PUBLISHED-TTL:PT1H
BEGIN:VTIMEZONE
TZID:Europe/Helsinki
BEGIN:DAYLIGHT
TZOFFSETFROM:+0200
TZOFFSETTO:+0300
TZNAME:EEST
DTSTART:20250330T010000
END:DAYLIGHT
BEGIN:STANDARD
TZOFFSETFROM:+0300
TZOFFSETTO:+0200
TZNAME:EET
DTSTART:20251026T010000
END:STANDARD
BEGIN:DAYLIGHT
TZOFFSETFROM:+0200
TZOFFSETTO:+0300
TZNAME:EEST
DTSTART:20260329T010000
END:DAYLIGHT
BEGIN:STANDARD
TZOFFSETFROM:+0300
TZOFFSETTO:+0200
TZNAME:EET
DTSTART:20261025T010000
END:STANDARD
BEGIN:DAYLIGHT
TZOFFSETFROM:+0200
TZOFFSETTO:+0300
TZNAME:EEST
DTSTART:20270328T010000
END:DAYLIGHT
BEGIN:STANDARD
TZOFFSETFROM:+0300
TZOFFSETTO:+0200
TZNAME:EET
DTSTART:20271031T010000
END:STANDARD
END:VTIMEZONE
BEGIN:VEVENT
DTSTART;TZID=Europe/Helsinki:20260512T150000
DTEND;TZID=Europe/Helsinki:20260512T170000
DTSTAMP:20260422T152050
CREATED:20260422T120620Z
LAST-MODIFIED:20260422T121022Z
UID:64528-1778598000-1778605200@plmf.ee
SUMMARY:Muusikute fondi PLMF “Hingemuusika” sarja kontsert – Nõmme Muusikakooli õpilased
DESCRIPTION:EELK Rootsi-Mihkli kogudus ja Muusikute fond PLMF esitlevad\nRootsi-Mihkli kirik\n12.05.2026 kl 15\nHINGEMUUSIKA\nNõmme Muusikakooli õpilased\nviiuldajad Joanna Elise Reinaru\, Heleena-Ruu Kerge\, trompetistid Emma-Paula Krekker\, Kirke-Triin Pärn\, Jasper Kübar\, Otto-Oliver Andres (akordion)\, Amina Rusanova (klaver)\nkontsertmeistrid Thea Nestor ja Riina Tamm\nMägi\, Eller\, Biber jt.\nVabaannetus uute kirikuvaipade ostuks!
URL:https://plmf.ee/kontsert/muusikute-fondi-plmf-hingemuusika-sarja-kontsert-nomme-muusikakooli-opilased/
LOCATION:Rootsi-Mihkli kirik\, Rüütli 9\, Tallinn\, Eesti
CATEGORIES:Kontserdid
ATTACH;FMTTYPE=image/png:https://www.plmf.ee/wp-content/uploads/2026/04/1-34.png
ORGANIZER;CN="Pille Lille Muusikute Fond":MAILTO:plmf@plmf.ee
GEO:59.4349799;24.7422417
X-APPLE-STRUCTURED-LOCATION;VALUE=URI;X-ADDRESS=Rootsi-Mihkli kirik Rüütli 9 Tallinn Eesti;X-APPLE-RADIUS=500;X-TITLE=Rüütli 9:geo:24.7422417,59.4349799
END:VEVENT
END:VCALENDAR