BEGIN:VCALENDAR
VERSION:2.0
PRODID:-//Muusikute fond PLMF - ECPv6.15.17.1//NONSGML v1.0//EN
CALSCALE:GREGORIAN
METHOD:PUBLISH
X-ORIGINAL-URL:https://plmf.ee
X-WR-CALDESC:Events for Muusikute fond PLMF
REFRESH-INTERVAL;VALUE=DURATION:PT1H
X-Robots-Tag:noindex
X-PUBLISHED-TTL:PT1H
BEGIN:VTIMEZONE
TZID:Europe/Helsinki
BEGIN:DAYLIGHT
TZOFFSETFROM:+0200
TZOFFSETTO:+0300
TZNAME:EEST
DTSTART:20210328T010000
END:DAYLIGHT
BEGIN:STANDARD
TZOFFSETFROM:+0300
TZOFFSETTO:+0200
TZNAME:EET
DTSTART:20211031T010000
END:STANDARD
BEGIN:DAYLIGHT
TZOFFSETFROM:+0200
TZOFFSETTO:+0300
TZNAME:EEST
DTSTART:20220327T010000
END:DAYLIGHT
BEGIN:STANDARD
TZOFFSETFROM:+0300
TZOFFSETTO:+0200
TZNAME:EET
DTSTART:20221030T010000
END:STANDARD
BEGIN:DAYLIGHT
TZOFFSETFROM:+0200
TZOFFSETTO:+0300
TZNAME:EEST
DTSTART:20230326T010000
END:DAYLIGHT
BEGIN:STANDARD
TZOFFSETFROM:+0300
TZOFFSETTO:+0200
TZNAME:EET
DTSTART:20231029T010000
END:STANDARD
END:VTIMEZONE
BEGIN:VEVENT
DTSTART;TZID=Europe/Helsinki:20221127T170000
DTEND;TZID=Europe/Helsinki:20221127T183000
DTSTAMP:20260422T103131
CREATED:20221012T120604Z
LAST-MODIFIED:20221018T103521Z
UID:49764-1669568400-1669573800@plmf.ee
SUMMARY:Kontsert Kuressaare Laurentiuse kirikus - Trass / Kuusik / Ots / Kärblane
DESCRIPTION:Saaremaa Vallavalitsus ja Muusikute fond PLMF esitlevad\nKuressaare Laurentiuse kirik\n27.11 kell 17\nKaris Trass (metsosopran)\, Oliver Kuusik (tenor)\,\nNeeme Ots (trompet) ja Tiina Kärblane (klaver)
URL:https://plmf.ee/kontsert/kontsert-kuressaare-laurentiuse-kirikus-trass-kuusik-ots-karblane/
LOCATION:Kuressaare Laurentiuse kirik\, Kuressaare\, Saaremaa\, 93819\, Eesti
CATEGORIES:Kontserdid
ATTACH;FMTTYPE=image/png:https://www.plmf.ee/wp-content/uploads/2022/10/1-1-3.png
ORGANIZER;CN="Pille Lille Muusikute Fond":MAILTO:plmf@plmf.ee
GEO:58.2549526;22.4918977
END:VEVENT
END:VCALENDAR