BEGIN:VCALENDAR
VERSION:2.0
PRODID:-//Muusikute fond PLMF - ECPv6.15.17.1//NONSGML v1.0//EN
CALSCALE:GREGORIAN
METHOD:PUBLISH
X-WR-CALNAME:Muusikute fond PLMF
X-ORIGINAL-URL:https://plmf.ee
X-WR-CALDESC:Events for Muusikute fond PLMF
REFRESH-INTERVAL;VALUE=DURATION:PT1H
X-Robots-Tag:noindex
X-PUBLISHED-TTL:PT1H
BEGIN:VTIMEZONE
TZID:Europe/Helsinki
BEGIN:DAYLIGHT
TZOFFSETFROM:+0200
TZOFFSETTO:+0300
TZNAME:EEST
DTSTART:20180325T010000
END:DAYLIGHT
BEGIN:STANDARD
TZOFFSETFROM:+0300
TZOFFSETTO:+0200
TZNAME:EET
DTSTART:20181028T010000
END:STANDARD
BEGIN:DAYLIGHT
TZOFFSETFROM:+0200
TZOFFSETTO:+0300
TZNAME:EEST
DTSTART:20190331T010000
END:DAYLIGHT
BEGIN:STANDARD
TZOFFSETFROM:+0300
TZOFFSETTO:+0200
TZNAME:EET
DTSTART:20191027T010000
END:STANDARD
BEGIN:DAYLIGHT
TZOFFSETFROM:+0200
TZOFFSETTO:+0300
TZNAME:EEST
DTSTART:20200329T010000
END:DAYLIGHT
BEGIN:STANDARD
TZOFFSETFROM:+0300
TZOFFSETTO:+0200
TZNAME:EET
DTSTART:20201025T010000
END:STANDARD
END:VTIMEZONE
BEGIN:VEVENT
DTSTART;TZID=Europe/Helsinki:20191130T180000
DTEND;TZID=Europe/Helsinki:20191130T190000
DTSTAMP:20260421T151920
CREATED:20191024T155640Z
LAST-MODIFIED:20191120T192513Z
UID:34548-1575136800-1575140400@plmf.ee
SUMMARY:Kristina Vähi (sopran)\, Aare Saal (bariton\, RO Estonia)\, Ralf Taal (klaver)
DESCRIPTION:VIRUMAA MUUSIKAFESTIVAL 26.11-2.12 \nKristina Vähi (sopran)\, Aare Saal (bariton\, RO Estonia)\, Ralf Taal (klaver)\nKavas: Mozart\, Schumann\, Puccini jt\nVaba sissepääs \n \n16.45 Kohtla-Järve Kultuurimaja\nÕpitoad: Kristina Vähi ja Aare Saal lauljatele ning Ralf Taal pianistidele
URL:https://plmf.ee/kontsert/kristina-vahi-sopran-aare-saal-bariton-ralf-taal-klaver/
LOCATION:Kohtla-Järve Kultuurimaja
CATEGORIES:Kontserdid
ATTACH;FMTTYPE=image/jpeg:https://plmf.ee/wp-content/uploads/2019/10/1440x1080_VMF_V2hi_Saal_Taal.jpg
END:VEVENT
END:VCALENDAR