BEGIN:VCALENDAR
VERSION:2.0
PRODID:-//Muusikute fond PLMF - ECPv6.15.17.1//NONSGML v1.0//EN
CALSCALE:GREGORIAN
METHOD:PUBLISH
X-WR-CALNAME:Muusikute fond PLMF
X-ORIGINAL-URL:https://plmf.ee
X-WR-CALDESC:Events for Muusikute fond PLMF
REFRESH-INTERVAL;VALUE=DURATION:PT1H
X-Robots-Tag:noindex
X-PUBLISHED-TTL:PT1H
BEGIN:VTIMEZONE
TZID:Europe/Helsinki
BEGIN:DAYLIGHT
TZOFFSETFROM:+0200
TZOFFSETTO:+0300
TZNAME:EEST
DTSTART:20210328T010000
END:DAYLIGHT
BEGIN:STANDARD
TZOFFSETFROM:+0300
TZOFFSETTO:+0200
TZNAME:EET
DTSTART:20211031T010000
END:STANDARD
BEGIN:DAYLIGHT
TZOFFSETFROM:+0200
TZOFFSETTO:+0300
TZNAME:EEST
DTSTART:20220327T010000
END:DAYLIGHT
BEGIN:STANDARD
TZOFFSETFROM:+0300
TZOFFSETTO:+0200
TZNAME:EET
DTSTART:20221030T010000
END:STANDARD
BEGIN:DAYLIGHT
TZOFFSETFROM:+0200
TZOFFSETTO:+0300
TZNAME:EEST
DTSTART:20230326T010000
END:DAYLIGHT
BEGIN:STANDARD
TZOFFSETFROM:+0300
TZOFFSETTO:+0200
TZNAME:EET
DTSTART:20231029T010000
END:STANDARD
BEGIN:DAYLIGHT
TZOFFSETFROM:+0200
TZOFFSETTO:+0300
TZNAME:EEST
DTSTART:20240331T010000
END:DAYLIGHT
BEGIN:STANDARD
TZOFFSETFROM:+0300
TZOFFSETTO:+0200
TZNAME:EET
DTSTART:20241027T010000
END:STANDARD
BEGIN:DAYLIGHT
TZOFFSETFROM:+0200
TZOFFSETTO:+0300
TZNAME:EEST
DTSTART:20250330T010000
END:DAYLIGHT
BEGIN:STANDARD
TZOFFSETFROM:+0300
TZOFFSETTO:+0200
TZNAME:EET
DTSTART:20251026T010000
END:STANDARD
END:VTIMEZONE
BEGIN:VEVENT
DTSTART;TZID=Europe/Helsinki:20240222T180000
DTEND;TZID=Europe/Helsinki:20240222T193000
DTSTAMP:20260425T045958
CREATED:20240131T144137Z
LAST-MODIFIED:20240131T144137Z
UID:55775-1708624800-1708630200@plmf.ee
SUMMARY:Tallinna Trompetiansambli kontsert "Saarde Valla tänupidu" Kilingi-Nõmme Klubis - Ots / Ustav / Laur / Bahovski
DESCRIPTION:Kilingi-Nõmme Klubi ja Muusikute fond PLMF esitlevad \nKilingi-Nõmme Klubi\n22.02 kell 18\nSAARDE VALLA TÄNUPIDU\nTallinna Trompetiansambel \nNeeme Ots\, Triin Ustav\, Jan Marius Laur\, Eerik Bahovski\nKavas: Bach\, Telemann\, Mendelssohn\, Gershwin jt.\nVaba sissepääs!
URL:https://plmf.ee/kontsert/tallinna-trompetiansambli-kontsert-saarde-valla-tanupidu-kilingi-nomme-klubis-ots-ustav-laur-bahovski/
LOCATION:Kilingi-Nõmme Klubi\, Pärnu 73\, Kilingi-Nõmme\, Pärnu maakond\, 86305\, Eesti
CATEGORIES:Kontserdid
ATTACH;FMTTYPE=image/jpeg:https://plmf.ee/wp-content/uploads/2024/01/1-4.jpg
ORGANIZER;CN="Pille Lille Muusikute Fond":MAILTO:plmf@plmf.ee
GEO:58.1495887;24.9643473
X-APPLE-STRUCTURED-LOCATION;VALUE=URI;X-ADDRESS=Kilingi-Nõmme Klubi Pärnu 73 Kilingi-Nõmme Pärnu maakond 86305 Eesti;X-APPLE-RADIUS=500;X-TITLE=Pärnu 73:geo:24.9643473,58.1495887
END:VEVENT
BEGIN:VEVENT
DTSTART;TZID=Europe/Helsinki:20220522T150000
DTEND;TZID=Europe/Helsinki:20220522T163000
DTSTAMP:20260425T045958
CREATED:20220503T114934Z
LAST-MODIFIED:20220503T114934Z
UID:46945-1653231600-1653237000@plmf.ee
SUMMARY:Kilingi-Nõmme Klubi kontsert "Helimaalingud" - Ots / Langeproon
DESCRIPTION:Muusikute fond PLMF ja Kilingi-Nõmme Klubi esitlevad\nKilingi-Nõmme Klubi\n22.05 kell 15:00\nNeeme Ots (trompet) ja Mikk Langeproon (akordion)\nKavas: Monti\, Brahms\, Mendez jt.
URL:https://plmf.ee/kontsert/kilingi-nomme-klubi-kontsert-helimaalingud-ots-langeproon/
LOCATION:Kilingi-Nõmme Klubi\, Pärnu 73\, Kilingi-Nõmme\, Pärnu maakond\, 86305\, Eesti
CATEGORIES:Kontserdid
ATTACH;FMTTYPE=image/jpeg:https://plmf.ee/wp-content/uploads/2022/04/1-10.jpg
ORGANIZER;CN="Pille Lille Muusikute Fond":MAILTO:plmf@plmf.ee
GEO:58.1495887;24.9643473
X-APPLE-STRUCTURED-LOCATION;VALUE=URI;X-ADDRESS=Kilingi-Nõmme Klubi Pärnu 73 Kilingi-Nõmme Pärnu maakond 86305 Eesti;X-APPLE-RADIUS=500;X-TITLE=Pärnu 73:geo:24.9643473,58.1495887
END:VEVENT
BEGIN:VEVENT
DTSTART;TZID=Europe/Helsinki:20220308T190000
DTEND;TZID=Europe/Helsinki:20220308T200000
DTSTAMP:20260425T045958
CREATED:20220126T121641Z
LAST-MODIFIED:20220126T121641Z
UID:45716-1646766000-1646769600@plmf.ee
SUMMARY:Naistepäeva kontsert Kilingi-Nõmme Klubis - Karp / Martin
DESCRIPTION:Muusikute fond PLMF ja Kilingi-Nõmme Klubi esitlevad\nKilingi-Nõmme Klubi\n8.03 kl 19\nNAISTEPÄEVA KONTSERT\nAtlan Karp (bariton)\, Marko Martin (klaver)\nKavas: Mägi\, Tamberg\, Sõber \nPilet: 5€
URL:https://plmf.ee/kontsert/naistepaeva-kontsert-kilingi-nomme-klubis-karp-martin/
LOCATION:Kilingi-Nõmme Klubi\, Pärnu 73\, Kilingi-Nõmme\, Pärnu maakond\, 86305\, Eesti
CATEGORIES:Kontserdid
ATTACH;FMTTYPE=image/jpeg:https://plmf.ee/wp-content/uploads/2022/01/1-1-4.jpg
ORGANIZER;CN="Pille Lille Muusikute Fond":MAILTO:plmf@plmf.ee
GEO:58.1495887;24.9643473
X-APPLE-STRUCTURED-LOCATION;VALUE=URI;X-ADDRESS=Kilingi-Nõmme Klubi Pärnu 73 Kilingi-Nõmme Pärnu maakond 86305 Eesti;X-APPLE-RADIUS=500;X-TITLE=Pärnu 73:geo:24.9643473,58.1495887
END:VEVENT
END:VCALENDAR