BEGIN:VCALENDAR
VERSION:2.0
PRODID:-//Muusikute fond PLMF - ECPv6.15.17.1//NONSGML v1.0//EN
CALSCALE:GREGORIAN
METHOD:PUBLISH
X-WR-CALNAME:Muusikute fond PLMF
X-ORIGINAL-URL:https://plmf.ee
X-WR-CALDESC:Events for Muusikute fond PLMF
REFRESH-INTERVAL;VALUE=DURATION:PT1H
X-Robots-Tag:noindex
X-PUBLISHED-TTL:PT1H
BEGIN:VTIMEZONE
TZID:Europe/Helsinki
BEGIN:DAYLIGHT
TZOFFSETFROM:+0200
TZOFFSETTO:+0300
TZNAME:EEST
DTSTART:20180325T010000
END:DAYLIGHT
BEGIN:STANDARD
TZOFFSETFROM:+0300
TZOFFSETTO:+0200
TZNAME:EET
DTSTART:20181028T010000
END:STANDARD
BEGIN:DAYLIGHT
TZOFFSETFROM:+0200
TZOFFSETTO:+0300
TZNAME:EEST
DTSTART:20190331T010000
END:DAYLIGHT
BEGIN:STANDARD
TZOFFSETFROM:+0300
TZOFFSETTO:+0200
TZNAME:EET
DTSTART:20191027T010000
END:STANDARD
BEGIN:DAYLIGHT
TZOFFSETFROM:+0200
TZOFFSETTO:+0300
TZNAME:EEST
DTSTART:20200329T010000
END:DAYLIGHT
BEGIN:STANDARD
TZOFFSETFROM:+0300
TZOFFSETTO:+0200
TZNAME:EET
DTSTART:20201025T010000
END:STANDARD
BEGIN:DAYLIGHT
TZOFFSETFROM:+0200
TZOFFSETTO:+0300
TZNAME:EEST
DTSTART:20210328T010000
END:DAYLIGHT
BEGIN:STANDARD
TZOFFSETFROM:+0300
TZOFFSETTO:+0200
TZNAME:EET
DTSTART:20211031T010000
END:STANDARD
BEGIN:DAYLIGHT
TZOFFSETFROM:+0200
TZOFFSETTO:+0300
TZNAME:EEST
DTSTART:20220327T010000
END:DAYLIGHT
BEGIN:STANDARD
TZOFFSETFROM:+0300
TZOFFSETTO:+0200
TZNAME:EET
DTSTART:20221030T010000
END:STANDARD
BEGIN:DAYLIGHT
TZOFFSETFROM:+0200
TZOFFSETTO:+0300
TZNAME:EEST
DTSTART:20230326T010000
END:DAYLIGHT
BEGIN:STANDARD
TZOFFSETFROM:+0300
TZOFFSETTO:+0200
TZNAME:EET
DTSTART:20231029T010000
END:STANDARD
BEGIN:DAYLIGHT
TZOFFSETFROM:+0200
TZOFFSETTO:+0300
TZNAME:EEST
DTSTART:20240331T010000
END:DAYLIGHT
BEGIN:STANDARD
TZOFFSETFROM:+0300
TZOFFSETTO:+0200
TZNAME:EET
DTSTART:20241027T010000
END:STANDARD
BEGIN:DAYLIGHT
TZOFFSETFROM:+0200
TZOFFSETTO:+0300
TZNAME:EEST
DTSTART:20250330T010000
END:DAYLIGHT
BEGIN:STANDARD
TZOFFSETFROM:+0300
TZOFFSETTO:+0200
TZNAME:EET
DTSTART:20251026T010000
END:STANDARD
BEGIN:DAYLIGHT
TZOFFSETFROM:+0200
TZOFFSETTO:+0300
TZNAME:EEST
DTSTART:20260329T010000
END:DAYLIGHT
BEGIN:STANDARD
TZOFFSETFROM:+0300
TZOFFSETTO:+0200
TZNAME:EET
DTSTART:20261025T010000
END:STANDARD
END:VTIMEZONE
BEGIN:VTIMEZONE
TZID:Europe/Moscow
BEGIN:STANDARD
TZOFFSETFROM:+0300
TZOFFSETTO:+0300
TZNAME:MSK
DTSTART:20170101T000000
END:STANDARD
END:VTIMEZONE
BEGIN:VEVENT
DTSTART;TZID=Europe/Helsinki:20250720T130000
DTEND;TZID=Europe/Helsinki:20250720T150000
DTSTAMP:20260421T014549
CREATED:20250709T150013Z
LAST-MODIFIED:20250709T150013Z
UID:61973-1753016400-1753023600@plmf.ee
SUMMARY:Muusikute fondi PLMF kontsert "Taevased helid" Järva-Madise kirikus – Kõrvek / Tenno
DESCRIPTION:Muusikute fond PLMF ja EELK Järva-Madise kogudus esitlevad\nJärva-Madise kirik\n20.07 kl 13\nTAEVASED HELID\nKadri Kõrvek (sopran\, RO Estonia)\, Tiia Tenno (orel)\nKavas: Bach\, Händel\, Mozart\, Rossini jt.\nVabaannetus kabeli ukse renoveerimiseks!
URL:https://plmf.ee/kontsert/muusikute-fondi-plmf-kontsert-taevased-helid-jarva-madise-kirikus-korvek-tenno/
LOCATION:Järva-Madise kirik
CATEGORIES:Kontserdid
ATTACH;FMTTYPE=image/jpeg:https://www.plmf.ee/wp-content/uploads/2025/07/1-5.jpg
ORGANIZER;CN="Pille Lille Muusikute Fond":MAILTO:plmf@plmf.ee
END:VEVENT
BEGIN:VEVENT
DTSTART;TZID=Europe/Helsinki:20250511T130000
DTEND;TZID=Europe/Helsinki:20250511T143000
DTSTAMP:20260421T014549
CREATED:20250422T111634Z
LAST-MODIFIED:20250422T111738Z
UID:60720-1746968400-1746973800@plmf.ee
SUMMARY:Muusikute fondi PLMF kontsert "Mõeldes emadele" Järva-Madise kirikus - Dyka / Kostrytskyy / Vahermägi
DESCRIPTION:EELK Järva-Madise kogudus ja Muusikute fond PLMF esitlevad\nJärva-Madise kirik\n11.05 kl 13\nMÕELDES EMADELE\nMariia-Sofia Dyka (viiul\, UA)\, Yevgeniy Kostrytskyy (viiul\, UA)\, Johanna Vahermägi (vioola)\nKavas: Mozart\, Dvořák\, Sylvestrov jt.\nVaba annetus kiriku heaks!
URL:https://plmf.ee/kontsert/muusikute-fondi-plmf-kontsert-moeldes-emadele-jarva-madise-kirikus-dyka-kostrytskyy-vahermagi/
LOCATION:Järva-Madise kirik
CATEGORIES:Kontserdid
ATTACH;FMTTYPE=image/jpeg:https://www.plmf.ee/wp-content/uploads/2025/04/1-3.jpg
ORGANIZER;CN="Pille Lille Muusikute Fond":MAILTO:plmf@plmf.ee
END:VEVENT
BEGIN:VEVENT
DTSTART;TZID=Europe/Helsinki:20230618T130000
DTEND;TZID=Europe/Helsinki:20230618T143000
DTSTAMP:20260421T014549
CREATED:20230503T093635Z
LAST-MODIFIED:20230503T093635Z
UID:52148-1687093200-1687098600@plmf.ee
SUMMARY:Suvekontsert Järva-Madise kirikus - Pillak / Tenno
DESCRIPTION:EELK Järva-Madise Kogudus ja Muusikute fond PLMF esitlevad\nJärva-Madise kirik\n18.06 kell 13\nAnnaliisa Pillak (mezzosopran) ja Tiia Tenno (orel)\nKavas: Bach\, Stradella\, Schubert jt. \nVabaannetus kiriku heaks!
URL:https://plmf.ee/kontsert/suvekontsert-jarva-madise-kirikus-pillak-tenno/
LOCATION:Järva-Madise kirik
CATEGORIES:Kontserdid
ATTACH;FMTTYPE=image/png:https://www.plmf.ee/wp-content/uploads/2023/05/1-1.png
ORGANIZER;CN="Pille Lille Muusikute Fond":MAILTO:plmf@plmf.ee
END:VEVENT
BEGIN:VEVENT
DTSTART;TZID=Europe/Helsinki:20190804T110000
DTEND;TZID=Europe/Helsinki:20190804T120000
DTSTAMP:20260421T014549
CREATED:20190729T063857Z
LAST-MODIFIED:20190729T063950Z
UID:33723-1564916400-1564920000@plmf.ee
SUMMARY:Neeme Ots (trompet)\, Tiina Kärblane (klaver)
DESCRIPTION:Kontsert – jumalateenistus \nNeeme Ots (trompet)\,\nTiina Kärblane (klaver)\nKavas: Bach\, Tartini jt
URL:https://plmf.ee/kontsert/neeme-ots-trompet-tiina-karblane-klaver/
LOCATION:Järva-Madise kirik
CATEGORIES:Kontserdid
ATTACH;FMTTYPE=image/png:https://www.plmf.ee/wp-content/uploads/2017/11/Neeme.png
END:VEVENT
BEGIN:VEVENT
DTSTART;TZID=Europe/Moscow:20181014T110000
DTEND;TZID=Europe/Moscow:20181014T120000
DTSTAMP:20260421T014549
CREATED:20180921T113317Z
LAST-MODIFIED:20181011T115331Z
UID:31278-1539514800-1539518400@plmf.ee
SUMMARY:Oliver Kuusik (tenor)\, Tiina Kärblane (klaver)
DESCRIPTION:Lõikustänupüha kontsert- jumalateenistus\n14. oktoober kell 11.00\n Järva-Madise kirik\n Oliver Kuusik (tenor)\n Tiina Kärblane (klaver)\nKavas: Händel\, Giordani\, Schubert jt\n \n 
URL:https://plmf.ee/kontsert/oliver-kuusik-tenor-tiina-karblane-klaver/
LOCATION:Järva-Madise kirik
CATEGORIES:Kontserdid
ORGANIZER;CN="Music Trust PLMF":MAILTO:plmf@plmf.ee
END:VEVENT
BEGIN:VEVENT
DTSTART;TZID=Europe/Moscow:20180920T121500
DTEND;TZID=Europe/Moscow:20180920T130000
DTSTAMP:20260421T014549
CREATED:20180831T122435Z
LAST-MODIFIED:20180917T104959Z
UID:30965-1537445700-1537448400@plmf.ee
SUMMARY:Neeme Ots (trompet) Tiia Tenno (orel)
DESCRIPTION:Järva-Madise kihelkonnapäev\n20. september kell 12.15\nJärva-Madise kirik\nNeeme Ots (trompet)\nTiia Tenno (orel)\nKavas: Bach\, Tartini\, Albinioni jt \n 
URL:https://plmf.ee/kontsert/neeme-ots-trompet-tiia-tenno-orel-2/
LOCATION:Järva-Madise kirik
CATEGORIES:Kontserdid,Koolikontserdid
ATTACH;FMTTYPE=image/jpeg:https://www.plmf.ee/wp-content/uploads/2017/12/NeemeOts.jpg
ORGANIZER;CN="Music Trust PLMF":MAILTO:plmf@plmf.ee
END:VEVENT
END:VCALENDAR