BEGIN:VCALENDAR
VERSION:2.0
PRODID:-//Muusikute fond PLMF - ECPv6.15.17.1//NONSGML v1.0//EN
CALSCALE:GREGORIAN
METHOD:PUBLISH
X-ORIGINAL-URL:https://plmf.ee
X-WR-CALDESC:Events for Muusikute fond PLMF
REFRESH-INTERVAL;VALUE=DURATION:PT1H
X-Robots-Tag:noindex
X-PUBLISHED-TTL:PT1H
BEGIN:VTIMEZONE
TZID:Europe/Helsinki
BEGIN:DAYLIGHT
TZOFFSETFROM:+0200
TZOFFSETTO:+0300
TZNAME:EEST
DTSTART:20180325T010000
END:DAYLIGHT
BEGIN:STANDARD
TZOFFSETFROM:+0300
TZOFFSETTO:+0200
TZNAME:EET
DTSTART:20181028T010000
END:STANDARD
BEGIN:DAYLIGHT
TZOFFSETFROM:+0200
TZOFFSETTO:+0300
TZNAME:EEST
DTSTART:20190331T010000
END:DAYLIGHT
BEGIN:STANDARD
TZOFFSETFROM:+0300
TZOFFSETTO:+0200
TZNAME:EET
DTSTART:20191027T010000
END:STANDARD
BEGIN:DAYLIGHT
TZOFFSETFROM:+0200
TZOFFSETTO:+0300
TZNAME:EEST
DTSTART:20200329T010000
END:DAYLIGHT
BEGIN:STANDARD
TZOFFSETFROM:+0300
TZOFFSETTO:+0200
TZNAME:EET
DTSTART:20201025T010000
END:STANDARD
END:VTIMEZONE
BEGIN:VEVENT
DTSTART;TZID=Europe/Helsinki:20191212T170000
DTEND;TZID=Europe/Helsinki:20191212T183000
DTSTAMP:20260422T052757
CREATED:20191201T203325Z
LAST-MODIFIED:20191212T122116Z
UID:34846-1576170000-1576175400@plmf.ee
SUMMARY:ADVENDIKONTSERT / Neeme Ots (trompet)\, Kirill Lissijenko (klaver)
DESCRIPTION:
URL:https://plmf.ee/kontsert/advendikontsert-virgo-veldi-saksofon-ralf-taal-klaver/
LOCATION:Hiiumaa Suuremõisa saal
CATEGORIES:Kontserdid
ATTACH;FMTTYPE=image/jpeg:https://www.plmf.ee/wp-content/uploads/2019/12/1440x1080_12_12_Hiiumaa_Advendikontsert_Ots_Lissijenko-1.jpg
END:VEVENT
END:VCALENDAR