BEGIN:VCALENDAR
VERSION:2.0
PRODID:-//Muusikute fond PLMF - ECPv6.15.17.1//NONSGML v1.0//EN
CALSCALE:GREGORIAN
METHOD:PUBLISH
X-ORIGINAL-URL:https://plmf.ee
X-WR-CALDESC:Events for Muusikute fond PLMF
REFRESH-INTERVAL;VALUE=DURATION:PT1H
X-Robots-Tag:noindex
X-PUBLISHED-TTL:PT1H
BEGIN:VTIMEZONE
TZID:Europe/Helsinki
BEGIN:DAYLIGHT
TZOFFSETFROM:+0200
TZOFFSETTO:+0300
TZNAME:EEST
DTSTART:20220327T010000
END:DAYLIGHT
BEGIN:STANDARD
TZOFFSETFROM:+0300
TZOFFSETTO:+0200
TZNAME:EET
DTSTART:20221030T010000
END:STANDARD
BEGIN:DAYLIGHT
TZOFFSETFROM:+0200
TZOFFSETTO:+0300
TZNAME:EEST
DTSTART:20230326T010000
END:DAYLIGHT
BEGIN:STANDARD
TZOFFSETFROM:+0300
TZOFFSETTO:+0200
TZNAME:EET
DTSTART:20231029T010000
END:STANDARD
BEGIN:DAYLIGHT
TZOFFSETFROM:+0200
TZOFFSETTO:+0300
TZNAME:EEST
DTSTART:20240331T010000
END:DAYLIGHT
BEGIN:STANDARD
TZOFFSETFROM:+0300
TZOFFSETTO:+0200
TZNAME:EET
DTSTART:20241027T010000
END:STANDARD
BEGIN:DAYLIGHT
TZOFFSETFROM:+0200
TZOFFSETTO:+0300
TZNAME:EEST
DTSTART:20250330T010000
END:DAYLIGHT
BEGIN:STANDARD
TZOFFSETFROM:+0300
TZOFFSETTO:+0200
TZNAME:EET
DTSTART:20251026T010000
END:STANDARD
END:VTIMEZONE
BEGIN:VEVENT
DTSTART;TZID=Europe/Helsinki:20241205T170000
DTEND;TZID=Europe/Helsinki:20241205T180000
DTSTAMP:20260421T120543
CREATED:20241104T154429Z
LAST-MODIFIED:20241111T110245Z
UID:59240-1733418000-1733421600@plmf.ee
SUMMARY:Muusikute fondi PLMF Talveooper 2024 kontsert - Kõrvek / Kuusik / Paemurru
DESCRIPTION:Tartu Linnavalitsus\, Tartu Jaani kirik ja Muusikute fond PLMF esitlevad\nTartu Jaani kirik\n5.12 kell 17\nTALVEOOPER\nKadri Kõrvek (sopran)\, Oliver Kuusik (tenor)\, Piia Paemurru (klaver)\nKontserti juhivad Pille Lill ja Alar Haak \nKavas: Mozart\, Händel\, Puccini jt.\nPiletid 20/12€ saadaval Piletilevis ja kohapeal enne kontserti
URL:https://plmf.ee/kontsert/muusikute-fondi-plmf-talveooper-2024-kontsert-korvek-kuusik-paemurru/
LOCATION:Tartu Jaani kirik\, Jaani 5\, Tartu\, 51007\, Eesti
CATEGORIES:Kontserdid,Talveooper
ATTACH;FMTTYPE=image/jpeg:https://www.plmf.ee/wp-content/uploads/2024/11/1-6.jpg
ORGANIZER;CN="Pille Lille Muusikute Fond":MAILTO:plmf@plmf.ee
GEO:58.382666;26.7201812
X-APPLE-STRUCTURED-LOCATION;VALUE=URI;X-ADDRESS=Tartu Jaani kirik Jaani 5 Tartu 51007 Eesti;X-APPLE-RADIUS=500;X-TITLE=Jaani 5:geo:26.7201812,58.382666
END:VEVENT
BEGIN:VEVENT
DTSTART;TZID=Europe/Helsinki:20231109T180000
DTEND;TZID=Europe/Helsinki:20231109T193000
DTSTAMP:20260421T120543
CREATED:20231019T193236Z
LAST-MODIFIED:20231106T121115Z
UID:54276-1699552800-1699558200@plmf.ee
SUMMARY:Talveooper 2023 kontsert - Puis / Saal / Balakin / Pikani
DESCRIPTION:Tartu Jaani kirik\n9.11 kell 18\nKarmen Puis (metsosopran)\, Aare Saal (bariton)\, \nPavlo Balakin (bass)\, klaveril Riina Pikani\nÕhtujuht Alar Haak\nKavas: Rossini\, Donizetti\, Verdi\, Bizet jt.\nKontserti täiskava\nPiletid: 20/12€
URL:https://plmf.ee/kontsert/talveooper-2023-kontsert-puis-saal-balakin-pikani/
LOCATION:Tartu Jaani kirik\, Jaani 5\, Tartu\, 51007\, Eesti
CATEGORIES:Kontserdid,Talveooper
ATTACH;FMTTYPE=image/png:https://www.plmf.ee/wp-content/uploads/2023/10/1-15.png
ORGANIZER;CN="Pille Lille Muusikute Fond":MAILTO:plmf@plmf.ee
GEO:58.382666;26.7201812
X-APPLE-STRUCTURED-LOCATION;VALUE=URI;X-ADDRESS=Tartu Jaani kirik Jaani 5 Tartu 51007 Eesti;X-APPLE-RADIUS=500;X-TITLE=Jaani 5:geo:26.7201812,58.382666
END:VEVENT
BEGIN:VEVENT
DTSTART;TZID=Europe/Helsinki:20231106T180000
DTEND;TZID=Europe/Helsinki:20231106T193000
DTSTAMP:20260421T120543
CREATED:20231019T192239Z
LAST-MODIFIED:20231106T114128Z
UID:54260-1699293600-1699299000@plmf.ee
SUMMARY:Talveooper 2023 kontsert - Listra / Laagus / Kull / Paemurru
DESCRIPTION:Tartu Jaani kirik\n6.11 kell 18\nMaria Listra (sopran)\, Sandra Laagus (metsosopran)\,\nRasmus Kull (tenor)\, klaveril Piia Paemurru\nÕhtujuht Alar Haak\nKavas: Rossini\, Cilea\, Verdi\, Gounod jt.\nKontserti täiskava\nPiletid: 20/12€
URL:https://plmf.ee/kontsert/talveooper-2023-kontsert-listra-laagus-kull-paemurru/
LOCATION:Tartu Jaani kirik\, Jaani 5\, Tartu\, 51007\, Eesti
CATEGORIES:Kontserdid,Talveooper
ATTACH;FMTTYPE=image/png:https://www.plmf.ee/wp-content/uploads/2023/10/1-5.png
ORGANIZER;CN="Pille Lille Muusikute Fond":MAILTO:plmf@plmf.ee
GEO:58.382666;26.7201812
X-APPLE-STRUCTURED-LOCATION;VALUE=URI;X-ADDRESS=Tartu Jaani kirik Jaani 5 Tartu 51007 Eesti;X-APPLE-RADIUS=500;X-TITLE=Jaani 5:geo:26.7201812,58.382666
END:VEVENT
END:VCALENDAR