BEGIN:VCALENDAR
VERSION:2.0
PRODID:-//Muusikute fond PLMF - ECPv6.15.17.1//NONSGML v1.0//EN
CALSCALE:GREGORIAN
METHOD:PUBLISH
X-WR-CALNAME:Muusikute fond PLMF
X-ORIGINAL-URL:https://plmf.ee
X-WR-CALDESC:Events for Muusikute fond PLMF
REFRESH-INTERVAL;VALUE=DURATION:PT1H
X-Robots-Tag:noindex
X-PUBLISHED-TTL:PT1H
BEGIN:VTIMEZONE
TZID:Europe/Moscow
BEGIN:STANDARD
TZOFFSETFROM:+0300
TZOFFSETTO:+0300
TZNAME:MSK
DTSTART:20170101T000000
END:STANDARD
END:VTIMEZONE
BEGIN:VEVENT
DTSTART;TZID=Europe/Moscow:20180223T103000
DTEND;TZID=Europe/Moscow:20180223T133000
DTSTAMP:20260421T211045
CREATED:20180115T150524Z
LAST-MODIFIED:20180221T122410Z
UID:28140-1519381800-1519392600@plmf.ee
SUMMARY:Eesti Vabariigi 100. aastapäeva kontserdid
DESCRIPTION:23. veebruar \nkell 10.30\nKiltsi mõisakool\nPavlo Balakin (bass)\nMarko Martin (klaver)\nkaastegev Pille Lill \nKavas: E. Tubin\, E. Tamberg\, A. Kapp jt\nVaba sissepääs \nkell 12.30\nSimuna Rahvamaja\nPavlo Balakin (bass)\nMarko Martin (klaver)\nkaastegev Pille Lill \nKavas: E. Tubin\, E. Tamberg\, A. Kapp jt \nKontserdid on vaba sissepääsuga!
URL:https://plmf.ee/event/kodumaine-viis/2018-02-23/
LOCATION:Kiltsi mõisakool ja Simuna Rahvamaja\, Simuna\, Lääne-Viru maakond\, 46401
CATEGORIES:Kontserdid
ATTACH;FMTTYPE=image/jpeg:https://plmf.ee/wp-content/uploads/2018/01/Simuna_23.02_internetti-1.jpg
ORGANIZER;CN="Music Trust PLMF":MAILTO:plmf@plmf.ee
GEO:59.0480892;26.3985495
END:VEVENT
END:VCALENDAR