BEGIN:VCALENDAR
VERSION:2.0
PRODID:-//Pille Lill Music Fund - ECPv6.15.17.1//NONSGML v1.0//EN
CALSCALE:GREGORIAN
METHOD:PUBLISH
X-WR-CALNAME:Pille Lill Music Fund
X-ORIGINAL-URL:https://plmf.ee/en/
X-WR-CALDESC:Events for Pille Lill Music Fund
REFRESH-INTERVAL;VALUE=DURATION:PT1H
X-Robots-Tag:noindex
X-PUBLISHED-TTL:PT1H
BEGIN:VTIMEZONE
TZID:Europe/Helsinki
BEGIN:DAYLIGHT
TZOFFSETFROM:+0200
TZOFFSETTO:+0300
TZNAME:EEST
DTSTART:20240331T010000
END:DAYLIGHT
BEGIN:STANDARD
TZOFFSETFROM:+0300
TZOFFSETTO:+0200
TZNAME:EET
DTSTART:20241027T010000
END:STANDARD
BEGIN:DAYLIGHT
TZOFFSETFROM:+0200
TZOFFSETTO:+0300
TZNAME:EEST
DTSTART:20250330T010000
END:DAYLIGHT
BEGIN:STANDARD
TZOFFSETFROM:+0300
TZOFFSETTO:+0200
TZNAME:EET
DTSTART:20251026T010000
END:STANDARD
BEGIN:DAYLIGHT
TZOFFSETFROM:+0200
TZOFFSETTO:+0300
TZNAME:EEST
DTSTART:20260329T010000
END:DAYLIGHT
BEGIN:STANDARD
TZOFFSETFROM:+0300
TZOFFSETTO:+0200
TZNAME:EET
DTSTART:20261025T010000
END:STANDARD
END:VTIMEZONE
BEGIN:VEVENT
DTSTART;TZID=Europe/Helsinki:20250618T190000
DTEND;TZID=Europe/Helsinki:20250618T203000
DTSTAMP:20260424T011240
CREATED:20250424T105152Z
LAST-MODIFIED:20250424T120338Z
UID:60854-1750273200-1750278600@plmf.ee
SUMMARY:Music Trust PLMF concert “From Classical to Film Music” at Allikukivi Wine Manor – Lend / Jakobi
DESCRIPTION:Brought to you by NGO Allikukivi Park and Music Trust PLMF\nAllikukivi Wine Manor\n18th of June at 7 PM\nFROM CLASSICAL TO FILM MUSIC\nAndreas Lend (cello)\, Allan Jakobi (accordion)\nProgram: Brahms\, Piazzolla\, Mancini\, Legrand etc.\nTicket: 5€
URL:https://plmf.ee/en/event/music-trust-plmf-concert-from-classical-to-film-music-at-allikukivi-wine-manor-lend-jakobi/
LOCATION:Allikukivi Wine Manor\, Kooli tee 2\, Allikukivi\, Pärnu maakond\, 86201\, Eesti
CATEGORIES:Concerts
ATTACH;FMTTYPE=image/jpeg:https://www.plmf.ee/wp-content/uploads/2025/04/2-9.jpg
ORGANIZER;CN="Music Trust PLMF":MAILTO:plmf@plmf.ee
END:VEVENT
END:VCALENDAR