BEGIN:VCALENDAR
VERSION:2.0
PRODID:-//Pille Lill Music Fund - ECPv6.15.17.1//NONSGML v1.0//EN
CALSCALE:GREGORIAN
METHOD:PUBLISH
X-WR-CALNAME:Pille Lill Music Fund
X-ORIGINAL-URL:https://plmf.ee/en/
X-WR-CALDESC:Events for Pille Lill Music Fund
REFRESH-INTERVAL;VALUE=DURATION:PT1H
X-Robots-Tag:noindex
X-PUBLISHED-TTL:PT1H
BEGIN:VTIMEZONE
TZID:Europe/Helsinki
BEGIN:DAYLIGHT
TZOFFSETFROM:+0200
TZOFFSETTO:+0300
TZNAME:EEST
DTSTART:20200329T010000
END:DAYLIGHT
BEGIN:STANDARD
TZOFFSETFROM:+0300
TZOFFSETTO:+0200
TZNAME:EET
DTSTART:20201025T010000
END:STANDARD
BEGIN:DAYLIGHT
TZOFFSETFROM:+0200
TZOFFSETTO:+0300
TZNAME:EEST
DTSTART:20210328T010000
END:DAYLIGHT
BEGIN:STANDARD
TZOFFSETFROM:+0300
TZOFFSETTO:+0200
TZNAME:EET
DTSTART:20211031T010000
END:STANDARD
BEGIN:DAYLIGHT
TZOFFSETFROM:+0200
TZOFFSETTO:+0300
TZNAME:EEST
DTSTART:20220327T010000
END:DAYLIGHT
BEGIN:STANDARD
TZOFFSETFROM:+0300
TZOFFSETTO:+0200
TZNAME:EET
DTSTART:20221030T010000
END:STANDARD
END:VTIMEZONE
BEGIN:VEVENT
DTSTART;TZID=Europe/Helsinki:20211212T190000
DTEND;TZID=Europe/Helsinki:20211212T200000
DTSTAMP:20260422T105335
CREATED:20211117T141606Z
LAST-MODIFIED:20211117T141815Z
UID:44688-1639335600-1639339200@plmf.ee
SUMMARY:Mustla Community Center concert - Vahermägi / Kuusk
DESCRIPTION:Mustla Community Center\n12.12 at 7 p.m.\nJohanna Vahermägi (viola) and Viljar Kuusk (viola\, guitar)\nProgramme: Bach\, Bridge\, Piazzolla etc.
URL:https://plmf.ee/en/event/mustla-rahvamaja-kontsert-vahermagi-kuusk/
LOCATION:Mustla rahvamaja\, Posti 52\, Viljandi maakond\, 69701\, Eesti
CATEGORIES:Concerts
ATTACH;FMTTYPE=image/jpeg:https://plmf.ee/wp-content/uploads/2021/11/2-7-1.jpg
ORGANIZER;CN="Music Trust PLMF":MAILTO:plmf@plmf.ee
GEO:58.2402456;25.8574995
X-APPLE-STRUCTURED-LOCATION;VALUE=URI;X-ADDRESS=Mustla rahvamaja Posti 52 Viljandi maakond 69701 Eesti;X-APPLE-RADIUS=500;X-TITLE=Posti 52:geo:25.8574995,58.2402456
END:VEVENT
BEGIN:VEVENT
DTSTART;TZID=Europe/Helsinki:20211212T143000
DTEND;TZID=Europe/Helsinki:20211212T153000
DTSTAMP:20260422T105335
CREATED:20211117T140532Z
LAST-MODIFIED:20211117T140838Z
UID:44668-1639319400-1639323000@plmf.ee
SUMMARY:Rakke Church concert - Vahermägi / Kuusk
DESCRIPTION:Rakke Church\n12.12 at 2:30 p.m.\nJohanna Vahermägi (viola) ja Viljar Kuusk (viola\, guitar)\nProgramme: Bach\, Bridge\, Piazzolla etc.
URL:https://plmf.ee/en/event/rakke-kiriku-kontsert-vahermagi-kuusk/
LOCATION:Rakke kirik\, Oru 6\, Rakke\, Lääne-Viru maakond\, 46301\, Eesti
CATEGORIES:Concerts
ATTACH;FMTTYPE=image/jpeg:https://plmf.ee/wp-content/uploads/2021/11/2-6.jpg
ORGANIZER;CN="Music Trust PLMF":MAILTO:plmf@plmf.ee
GEO:58.9818281;26.252417
X-APPLE-STRUCTURED-LOCATION;VALUE=URI;X-ADDRESS=Rakke kirik Oru 6 Rakke Lääne-Viru maakond 46301 Eesti;X-APPLE-RADIUS=500;X-TITLE=Oru 6:geo:26.252417,58.9818281
END:VEVENT
BEGIN:VEVENT
DTSTART;TZID=Europe/Helsinki:20211209T180000
DTEND;TZID=Europe/Helsinki:20211209T190000
DTSTAMP:20260422T105335
CREATED:20211101T150320Z
LAST-MODIFIED:20211101T150604Z
UID:44334-1639072800-1639076400@plmf.ee
SUMMARY:Winter Opera - Vähi / Kuusik / Randal
DESCRIPTION:St. John’s Church in Tartu\n09.12 at 6 p.m.\nKristina Vähi (soprano)\, Oliver Kuusik (tenor)\, Piret Randal (piano)\nProgramme: Donizetti\, Verdi\, Schubert\, Tosti etc.\nTickets: 8/5€
URL:https://plmf.ee/en/event/talveooper-vahi-kuusik-randal/
LOCATION:Tartu Jaani kirik\, Jaani 5\, Tartu\, 51007\, Eesti
CATEGORIES:Concerts
ATTACH;FMTTYPE=image/jpeg:https://plmf.ee/wp-content/uploads/2021/11/2-1.jpg
ORGANIZER;CN="Music Trust PLMF":MAILTO:plmf@plmf.ee
GEO:58.382666;26.7201812
X-APPLE-STRUCTURED-LOCATION;VALUE=URI;X-ADDRESS=Tartu Jaani kirik Jaani 5 Tartu 51007 Eesti;X-APPLE-RADIUS=500;X-TITLE=Jaani 5:geo:26.7201812,58.382666
END:VEVENT
BEGIN:VEVENT
DTSTART;TZID=Europe/Helsinki:20211205T150000
DTEND;TZID=Europe/Helsinki:20211205T160000
DTSTAMP:20260422T105335
CREATED:20211122T124715Z
LAST-MODIFIED:20211122T125211Z
UID:44745-1638716400-1638720000@plmf.ee
SUMMARY:Opera Studio Finale Concert Performance
DESCRIPTION:Kanutiaia Hobby School\nOpera Studio Finale Concert Performance\n05.12 at 3 p.m.
URL:https://plmf.ee/en/event/ooperistuudio-kontsert-etendus/
LOCATION:Kanutiaia Huvikool\, Aia 12\, Tallinn\, 10111\, Eesti
ATTACH;FMTTYPE=image/jpeg:https://plmf.ee/wp-content/uploads/2021/11/2-1-2.jpg
ORGANIZER;CN="Music Trust PLMF":MAILTO:plmf@plmf.ee
GEO:59.4389222;24.7518065
X-APPLE-STRUCTURED-LOCATION;VALUE=URI;X-ADDRESS=Kanutiaia Huvikool Aia 12 Tallinn 10111 Eesti;X-APPLE-RADIUS=500;X-TITLE=Aia 12:geo:24.7518065,59.4389222
END:VEVENT
BEGIN:VEVENT
DTSTART;TZID=Europe/Helsinki:20211205T130000
DTEND;TZID=Europe/Helsinki:20211205T140000
DTSTAMP:20260422T105335
CREATED:20211129T132305Z
LAST-MODIFIED:20211129T133515Z
UID:44789-1638709200-1638712800@plmf.ee
SUMMARY:Karula St. Mary's Church concert - Listra / Paemurru
DESCRIPTION:Karula St. Mary’s Church\n05.12 at 1 p.m.\nMaria Listra (soprano) and Piia Paemurru (piano)\nProgramme: Ehala\, Podelski\, Rossini etc.
URL:https://plmf.ee/en/event/karula-maarja-kiriku-kontsert-listra-paemurru/
LOCATION:Karula Maarja kirik
CATEGORIES:Concerts
ATTACH;FMTTYPE=image/jpeg:https://plmf.ee/wp-content/uploads/2021/11/2-11.jpg
ORGANIZER;CN="Music Trust PLMF":MAILTO:plmf@plmf.ee
END:VEVENT
BEGIN:VEVENT
DTSTART;TZID=Europe/Helsinki:20211201T153000
DTEND;TZID=Europe/Helsinki:20211201T163000
DTSTAMP:20260422T105335
CREATED:20211112T134904Z
LAST-MODIFIED:20211112T135357Z
UID:44618-1638372600-1638376200@plmf.ee
SUMMARY:Põlva Music School concert - Kuulmann / Nestor / Lend
DESCRIPTION:Põlva Music School\n01.12 at 3:30 p.m.\nSigrid Kuulmann (violin)\, Toomas Nestor (viola) ja Andreas Lend (cello)\nProgramme: Mozart\, Beethoven\, Halvorsen\, Mägi etc.
URL:https://plmf.ee/en/event/polva-muusikakooli-kontsert-kuulmann-nestor-lend/
LOCATION:Põlva Muusikakool\, Võru 1\, Põlva\, Põlva maakond\, 63308
CATEGORIES:Concerts
ATTACH;FMTTYPE=image/jpeg:https://plmf.ee/wp-content/uploads/2021/11/2-4-1.jpg
ORGANIZER;CN="Music Trust PLMF":MAILTO:plmf@plmf.ee
GEO:58.0532427;27.0561583
X-APPLE-STRUCTURED-LOCATION;VALUE=URI;X-ADDRESS=Põlva Muusikakool Võru 1 Põlva Põlva maakond 63308;X-APPLE-RADIUS=500;X-TITLE=Võru 1:geo:27.0561583,58.0532427
END:VEVENT
BEGIN:VEVENT
DTSTART;TZID=Europe/Helsinki:20211201T111500
DTEND;TZID=Europe/Helsinki:20211201T132500
DTSTAMP:20260422T105335
CREATED:20211103T145922Z
LAST-MODIFIED:20211103T150716Z
UID:44423-1638357300-1638365100@plmf.ee
SUMMARY:Tartu Raatuse School concerts - Veldi / Ratassepp
DESCRIPTION:Tartu Raatuse School\n01.12 at 11:15 a.m. and 12:20 p.m.\nVirgo Veldi (saxophone)\, Kai Ratassepp (piano)\nProgramme: Piazzolla\, Demersseman\, Bedard etc.
URL:https://plmf.ee/en/event/tartu-raatuse-kooli-kontserdid-veldi-ratassepp/
LOCATION:Tartu Raatuse Kool
CATEGORIES:Concerts
ATTACH;FMTTYPE=image/jpeg:https://plmf.ee/wp-content/uploads/2021/11/2-5.jpg
ORGANIZER;CN="Music Trust PLMF":MAILTO:plmf@plmf.ee
END:VEVENT
BEGIN:VEVENT
DTSTART;TZID=Europe/Helsinki:20211129T180000
DTEND;TZID=Europe/Helsinki:20211129T190000
DTSTAMP:20260422T105335
CREATED:20211117T143139Z
LAST-MODIFIED:20211117T143139Z
UID:44699-1638208800-1638212400@plmf.ee
SUMMARY:II VIRUMAA NOOR MUUSIK 2021 konkursi finaal-lõppkontsert
DESCRIPTION:Jõhvi Kontserdimaja Kammersaal\n29.11 kell 18:00\nII VIRUMAA NOOR MUUSIK 2021 konkursi finaal-lõppkontsert\nEsinevad konkursi võitjad\nja keelpillikvartett koosseisus\nKristina Kriit\, Mari-Liis Uibo\, Toomas Nestor ja Andreas Lend\nKavas: Dvořák keelpillikvartett “Ameerika”
URL:https://plmf.ee/en/event/ii-virumaa-noor-muusik-2021-konkursi-finaal-loppkontsert/
LOCATION:Jõhvi Kontserdimaja
CATEGORIES:Competitions
ATTACH;FMTTYPE=image/jpeg:https://plmf.ee/wp-content/uploads/2021/11/7.jpg
ORGANIZER;CN="Music Trust PLMF":MAILTO:plmf@plmf.ee
END:VEVENT
BEGIN:VEVENT
DTSTART;TZID=Europe/Helsinki:20211128T170000
DTEND;TZID=Europe/Helsinki:20211128T180000
DTSTAMP:20260422T105335
CREATED:20211103T154204Z
LAST-MODIFIED:20211117T135505Z
UID:44487-1638118800-1638122400@plmf.ee
SUMMARY:I Advent concert - Ots / Tenno
DESCRIPTION:St. Catherine’s Church in Saarde\n28.11 at 5 p.m.\nNeeme Ots (trumpet)\, Tiia Tenno (organ)\nProgramme: Bach\, Händel\, Fauré
URL:https://plmf.ee/en/event/i-advendi-kontsert-ots-tenno/
LOCATION:Saarde Katariina kirik\, Kilingi-Nõmme-Tali-Laiksaare\, Pärnu\, 86213\, Eesti
CATEGORIES:Concerts
ATTACH;FMTTYPE=image/jpeg:https://plmf.ee/wp-content/uploads/2021/11/2-8.jpg
ORGANIZER;CN="Music Trust PLMF":MAILTO:plmf@plmf.ee
GEO:58.1260632;24.9573414
X-APPLE-STRUCTURED-LOCATION;VALUE=URI;X-ADDRESS=Saarde Katariina kirik Kilingi-Nõmme-Tali-Laiksaare Pärnu 86213 Eesti;X-APPLE-RADIUS=500;X-TITLE=Kilingi-Nõmme-Tali-Laiksaare:geo:24.9573414,58.1260632
END:VEVENT
BEGIN:VEVENT
DTSTART;TZID=Europe/Helsinki:20211128T150000
DTEND;TZID=Europe/Helsinki:20211128T160000
DTSTAMP:20260422T105335
CREATED:20211103T153350Z
LAST-MODIFIED:20211103T153542Z
UID:44475-1638111600-1638115200@plmf.ee
SUMMARY:I Advent concert - Lend / Jakobi
DESCRIPTION:Urvaste Pastorate House\n28.11 at 3 p.m.\nAndreas Lend (cello)\, Allan Jakobi (accordion)\nProgramme: Eller\, Sibelius\, Villa-Lobos etc.
URL:https://plmf.ee/en/event/i-advendi-kontsert-lend-jakobi-2/
LOCATION:Urvaste kirik\, Kirikuküla\, Urvaste\, Võrumaa\, 66512
CATEGORIES:Concerts
ATTACH;FMTTYPE=image/jpeg:https://plmf.ee/wp-content/uploads/2021/11/2-9.jpg
ORGANIZER;CN="Music Trust PLMF":MAILTO:plmf@plmf.ee
GEO:57.9141972;26.5410145
X-APPLE-STRUCTURED-LOCATION;VALUE=URI;X-ADDRESS=Urvaste kirik Kirikuküla Urvaste Võrumaa 66512;X-APPLE-RADIUS=500;X-TITLE=Kirikuküla:geo:26.5410145,57.9141972
END:VEVENT
BEGIN:VEVENT
DTSTART;TZID=Europe/Helsinki:20211128T110000
DTEND;TZID=Europe/Helsinki:20211128T120000
DTSTAMP:20260422T105335
CREATED:20211103T123716Z
LAST-MODIFIED:20211103T151142Z
UID:44399-1638097200-1638100800@plmf.ee
SUMMARY:I Advent concert - Lend / Jakobi
DESCRIPTION:Pindi pastoraadimaja\n28.11 at 11 a.m.\nAndreas Lend (cello)\, Allan Jakobi (accordion)\nProgramme: Eller\, Sibelius\, Villa-Lobos etc.
URL:https://plmf.ee/en/event/i-advendi-kontsert-lend-jakobi/
LOCATION:Pindi kirik\, Lasva\, Võru\, 65401\, Eesti
CATEGORIES:Concerts
ATTACH;FMTTYPE=image/jpeg:https://plmf.ee/wp-content/uploads/2021/11/3-5.jpg
ORGANIZER;CN="Music Trust PLMF":MAILTO:plmf@plmf.ee
GEO:57.8648521;27.1880083
X-APPLE-STRUCTURED-LOCATION;VALUE=URI;X-ADDRESS=Pindi kirik Lasva Võru 65401 Eesti;X-APPLE-RADIUS=500;X-TITLE=Lasva:geo:27.1880083,57.8648521
END:VEVENT
BEGIN:VEVENT
DTSTART;TZID=Europe/Helsinki:20211126T180000
DTEND;TZID=Europe/Helsinki:20211126T190000
DTSTAMP:20260422T105335
CREATED:20211101T145017Z
LAST-MODIFIED:20211108T121558Z
UID:44323-1637949600-1637953200@plmf.ee
SUMMARY:Winter Opera - Veretenina / Posti / Kärblane
DESCRIPTION:St. John’s Church in Tartu\n26.11 at 6 p.m.\nMaria Veretenina (soprano)\, Ivo Posti (countertenor)\, Tiina Kärblane (piano)\nProgramme: Monteverdi\, Cavalli\, Handel\, Mozart etc.\nTickets: 8/5€
URL:https://plmf.ee/en/event/winter-opera-veretenina-posti-paemurru/
LOCATION:Tartu Jaani kirik\, Jaani 5\, Tartu\, 51007\, Eesti
CATEGORIES:Concerts
ATTACH;FMTTYPE=image/jpeg:https://plmf.ee/wp-content/uploads/2021/11/5-1.jpg
ORGANIZER;CN="Music Trust PLMF":MAILTO:plmf@plmf.ee
GEO:58.382666;26.7201812
X-APPLE-STRUCTURED-LOCATION;VALUE=URI;X-ADDRESS=Tartu Jaani kirik Jaani 5 Tartu 51007 Eesti;X-APPLE-RADIUS=500;X-TITLE=Jaani 5:geo:26.7201812,58.382666
END:VEVENT
BEGIN:VEVENT
DTSTART;TZID=Europe/Helsinki:20211125T110000
DTEND;TZID=Europe/Helsinki:20211125T120000
DTSTAMP:20260422T105335
CREATED:20211103T152311Z
LAST-MODIFIED:20211103T152450Z
UID:44446-1637838000-1637841600@plmf.ee
SUMMARY:Clarinet quartet - Altrov / Kuusk / Ilves / Parind
DESCRIPTION:Hageri Community Center\n25.11 at 11 a.m.\nCLARINET QUARTET\nMarten Altrov\, Martin Kuusk\, Kerit Ilves\, Margus Parind\nProgramme: Dvořák\, Bartok\, Lutoslawski etc.
URL:https://plmf.ee/en/event/klarnetikvartett-altrov-kuusk-ilves-parind/
LOCATION:Hageri Rahvamaja\, Kohila tee 18\, Hageri\, Rapla maakond\, 79701
CATEGORIES:Concerts
ATTACH;FMTTYPE=image/jpeg:https://plmf.ee/wp-content/uploads/2021/11/2-7.jpg
ORGANIZER;CN="Music Trust PLMF":MAILTO:plmf@plmf.ee
GEO:59.1586433;24.6579049
X-APPLE-STRUCTURED-LOCATION;VALUE=URI;X-ADDRESS=Hageri Rahvamaja Kohila tee 18 Hageri Rapla maakond 79701;X-APPLE-RADIUS=500;X-TITLE=Kohila tee 18:geo:24.6579049,59.1586433
END:VEVENT
BEGIN:VEVENT
DTSTART;TZID=Europe/Helsinki:20211121T160000
DTEND;TZID=Europe/Helsinki:20211121T170000
DTSTAMP:20260422T105335
CREATED:20211103T120650Z
LAST-MODIFIED:20211103T120943Z
UID:44361-1637510400-1637514000@plmf.ee
SUMMARY:Eternity Sunday - Altrov / Kuusk
DESCRIPTION:Tõrva Church Chamber Hall\n21.11 at 4 p.m.\nClarinet duo Marten Altrov and Martin Kuusk\nProgramme: Poulenc\, Bach\, Mendelssohn etc.
URL:https://plmf.ee/en/event/igaviku-puhapaev-altrov-kuusk/
LOCATION:Tõrva Church-Chamber hall\, Valga tn. 44\, Valga\, Valgamaa\, 68606\, Estonia
CATEGORIES:Concerts
ATTACH;FMTTYPE=image/jpeg:https://plmf.ee/wp-content/uploads/2021/11/2-2.jpg
ORGANIZER;CN="Music Trust PLMF":MAILTO:plmf@plmf.ee
GEO:57.9997529;25.9301738
X-APPLE-STRUCTURED-LOCATION;VALUE=URI;X-ADDRESS=Tõrva Church-Chamber hall Valga tn. 44 Valga Valgamaa 68606 Estonia;X-APPLE-RADIUS=500;X-TITLE=Valga tn. 44:geo:25.9301738,57.9997529
END:VEVENT
BEGIN:VEVENT
DTSTART;TZID=Europe/Helsinki:20211121T123000
DTEND;TZID=Europe/Helsinki:20211121T133000
DTSTAMP:20260422T105335
CREATED:20211103T121846Z
LAST-MODIFIED:20211103T122443Z
UID:44378-1637497800-1637501400@plmf.ee
SUMMARY:Vändra Martin's Church concert - Altrov / Kuusk
DESCRIPTION:Vändra Martin’s Church\n21.11 at 12:30 p.m.\nClarinet duo Marten Altrov and Martin Kuusk\nProgramme: Poulenc\, Bach\, Mendelssohn etc.
URL:https://plmf.ee/en/event/vandra-martini-kiriku-kontsert-altrov-kuusk/
LOCATION:Vändra Martini kirik\, Pikk 32\, Vändra alev\, Põhja-Pärnumaa vald\, Pärnu maakond\, Eesti
CATEGORIES:Concerts
ATTACH;FMTTYPE=image/jpeg:https://plmf.ee/wp-content/uploads/2021/11/3-2.jpg
ORGANIZER;CN="Music Trust PLMF":MAILTO:plmf@plmf.ee
GEO:58.6503468;25.0411944
X-APPLE-STRUCTURED-LOCATION;VALUE=URI;X-ADDRESS=Vändra Martini kirik Pikk 32 Vändra alev Põhja-Pärnumaa vald Pärnu maakond Eesti;X-APPLE-RADIUS=500;X-TITLE=Pikk 32:geo:25.0411944,58.6503468
END:VEVENT
BEGIN:VEVENT
DTSTART;TZID=Europe/Helsinki:20211114T130000
DTEND;TZID=Europe/Helsinki:20211114T140000
DTSTAMP:20260422T105335
CREATED:20211008T123514Z
LAST-MODIFIED:20211026T111525Z
UID:43949-1636894800-1636898400@plmf.ee
SUMMARY:Kodumaine Viis - Lille / Tipp / Sepp / Sommer
DESCRIPTION:Saxophone quartet Saxest\nIvo Lille (soprano saxophone)\, Karl Tipp (alto saxophone)\,\nLauri Sepp (tenor saxophone) and Sulev Sommer (baritone saxophone)\n14th of November at 1 p.m.\nLüllemäe Culture House\nProgramme: Pärt\, Ignatjev\, Kõrvits\, Iturralde etc.\nTickets: 5€
URL:https://plmf.ee/en/event/kodumaine-viis-lille-laur-sepp-sommer/
LOCATION:Lüllemäe Kultuurimaja
CATEGORIES:Concerts
ATTACH;FMTTYPE=image/jpeg:https://plmf.ee/wp-content/uploads/2021/10/3-1.jpg
ORGANIZER;CN="Music Trust PLMF":MAILTO:plmf@plmf.ee
END:VEVENT
BEGIN:VEVENT
DTSTART;TZID=Europe/Helsinki:20211109T150000
DTEND;TZID=Europe/Helsinki:20211109T160000
DTSTAMP:20260422T105335
CREATED:20211026T122032Z
LAST-MODIFIED:20211026T122332Z
UID:44251-1636470000-1636473600@plmf.ee
SUMMARY:Soul Music
DESCRIPTION:Tallinn Music School singing and piano students\n9th of November at 3 p.m.\nRootsi-Mihkli Church
URL:https://plmf.ee/en/event/hingemuusika-4/
LOCATION:Swedish St. Michael’s Church\, Rüütli 9\, Tallinn\, Eesti
CATEGORIES:Concerts
ATTACH;FMTTYPE=image/jpeg:https://plmf.ee/wp-content/uploads/2021/10/2-1-4.jpg
ORGANIZER;CN="Music Trust PLMF":MAILTO:plmf@plmf.ee
GEO:59.4349799;24.7422417
X-APPLE-STRUCTURED-LOCATION;VALUE=URI;X-ADDRESS=Swedish St. Michael’s Church Rüütli 9 Tallinn Eesti;X-APPLE-RADIUS=500;X-TITLE=Rüütli 9:geo:24.7422417,59.4349799
END:VEVENT
BEGIN:VEVENT
DTSTART;TZID=Europe/Helsinki:20211104T190000
DTEND;TZID=Europe/Helsinki:20211104T200000
DTSTAMP:20260422T105335
CREATED:20211007T111816Z
LAST-MODIFIED:20211007T112018Z
UID:43900-1636052400-1636056000@plmf.ee
SUMMARY:Hot and cold - Sinkova / Jürgens
DESCRIPTION:Oksana Sinkova (flute) ja Liis Jürgens (harp)\n4th of November at 7 p.m.\nUue-Antsla Community Center\nProgramme: Bach\, Piazzolla\, Kangro\, Tüür etc.
URL:https://plmf.ee/en/event/kulm-ja-kuum-sinkova-jurgens-2/
LOCATION:Uue-Antsla Rahvamaja\, Uue-Antsla küla\, Urvaste vald\, Võrumaa\, 66501\, Eesti
CATEGORIES:Concerts
ATTACH;FMTTYPE=image/jpeg:https://plmf.ee/wp-content/uploads/2021/04/8.jpg
ORGANIZER;CN="Music Trust PLMF":MAILTO:plmf@plmf.ee
GEO:57.8746335;26.5534712
X-APPLE-STRUCTURED-LOCATION;VALUE=URI;X-ADDRESS=Uue-Antsla Rahvamaja Uue-Antsla küla Urvaste vald Võrumaa 66501 Eesti;X-APPLE-RADIUS=500;X-TITLE=Uue-Antsla küla:geo:26.5534712,57.8746335
END:VEVENT
BEGIN:VEVENT
DTSTART;TZID=Europe/Helsinki:20211102T190000
DTEND;TZID=Europe/Helsinki:20211102T200000
DTSTAMP:20260422T105335
CREATED:20210927T121108Z
LAST-MODIFIED:20211004T090309Z
UID:43795-1635879600-1635883200@plmf.ee
SUMMARY:Souls' Day Concert - Sinkova / Leiten
DESCRIPTION:Oksana Sinkova (flute) and Lea Leiten (piano)\n2th of November at 7 p.m.\nCultural center in Laeva\nProgramme: Gluck\, Kõrvits\, Enescu\, Bolling etc.
URL:https://plmf.ee/en/event/hingedepaeva-kontsert-sinkova-leiten/
LOCATION:Laeva Kultuurimaja\, Väänikvere tee 11\, Laeva\, Tartu maakond\, 60608\, Eesti
CATEGORIES:Concerts
ATTACH;FMTTYPE=image/jpeg:https://plmf.ee/wp-content/uploads/2021/09/9.jpg
ORGANIZER;CN="Music Trust PLMF":MAILTO:plmf@plmf.ee
GEO:58.4892034;26.3863898
X-APPLE-STRUCTURED-LOCATION;VALUE=URI;X-ADDRESS=Laeva Kultuurimaja Väänikvere tee 11 Laeva Tartu maakond 60608 Eesti;X-APPLE-RADIUS=500;X-TITLE=Väänikvere tee 11:geo:26.3863898,58.4892034
END:VEVENT
BEGIN:VEVENT
DTSTART;TZID=Europe/Helsinki:20211016T170000
DTEND;TZID=Europe/Helsinki:20211016T180000
DTSTAMP:20260422T105335
CREATED:20211004T142245Z
LAST-MODIFIED:20211004T142500Z
UID:43867-1634403600-1634407200@plmf.ee
SUMMARY:Iisaku Rahvamaja Concert - Kuusik / Paemurru
DESCRIPTION:Olvier Kuusik (tenor) ja Piia Paemurru (piano)\n16th of October at 5 p.m.\nIisaku Rahvamaja\nProgramme: Podelski\, Curtis\, Tosti etc.
URL:https://plmf.ee/en/event/iisaku-rahvamaja-kontsert-kuusik-paemurru/
LOCATION:Iisaku Rahvamaja\, Tartu mnt 22\, Ida-Viru maakond\, 41101\, Eesti
CATEGORIES:Concerts
ATTACH;FMTTYPE=image/jpeg:https://plmf.ee/wp-content/uploads/2021/10/12.jpg
ORGANIZER;CN="Music Trust PLMF":MAILTO:plmf@plmf.ee
GEO:59.1024687;27.3068825
X-APPLE-STRUCTURED-LOCATION;VALUE=URI;X-ADDRESS=Iisaku Rahvamaja Tartu mnt 22 Ida-Viru maakond 41101 Eesti;X-APPLE-RADIUS=500;X-TITLE=Tartu mnt 22:geo:27.3068825,59.1024687
END:VEVENT
BEGIN:VEVENT
DTSTART;TZID=Europe/Helsinki:20211012T150000
DTEND;TZID=Europe/Helsinki:20211012T160000
DTSTAMP:20260422T105335
CREATED:20210930T111012Z
LAST-MODIFIED:20210930T111259Z
UID:43819-1634050800-1634054400@plmf.ee
SUMMARY:Music for the Soul
DESCRIPTION:Prof Marje Lohuaru and Natalia Sakkos chamber ensembles\n12th of October at 3 p.m.\nRootsi-Mihkli Church\nProgramme: Saint-Saëns\, Gubaidulina\, Brahms etc.
URL:https://plmf.ee/en/event/hingemuusika-3/
LOCATION:Swedish St. Michael’s Church\, Rüütli 9\, Tallinn\, Eesti
CATEGORIES:Concerts
ATTACH;FMTTYPE=image/jpeg:https://plmf.ee/wp-content/uploads/2021/09/12.jpg
ORGANIZER;CN="Music Trust PLMF":MAILTO:plmf@plmf.ee
GEO:59.4349799;24.7422417
X-APPLE-STRUCTURED-LOCATION;VALUE=URI;X-ADDRESS=Swedish St. Michael’s Church Rüütli 9 Tallinn Eesti;X-APPLE-RADIUS=500;X-TITLE=Rüütli 9:geo:24.7422417,59.4349799
END:VEVENT
BEGIN:VEVENT
DTSTART;TZID=Europe/Helsinki:20211002T180000
DTEND;TZID=Europe/Helsinki:20211002T190000
DTSTAMP:20260422T105335
CREATED:20210925T105135Z
LAST-MODIFIED:20210927T120042Z
UID:43734-1633197600-1633201200@plmf.ee
SUMMARY:Autumn Fantasy - Veldi / Ratassepp
DESCRIPTION:Virgo Veldi (saxophone) and Kai Ratassepp (piano)\n2th of October at 6 p.m.\nCivic center in Viisu\nProgramme: Villa-Lobos\, Piazzolla\, Demersseman etc.
URL:https://plmf.ee/en/event/sugisfantaasia-veldi-ratassepp/
LOCATION:Viisu Rahvamaja\, Viisu mnt 4\, Viisu\, Järva maakond\, 73202\, Eesti
CATEGORIES:Concerts
ATTACH;FMTTYPE=image/jpeg:https://plmf.ee/wp-content/uploads/2021/09/Viisu-Inglise-Klots.jpg
ORGANIZER;CN="Music Trust PLMF":MAILTO:plmf@plmf.ee
GEO:58.948499;25.6654915
X-APPLE-STRUCTURED-LOCATION;VALUE=URI;X-ADDRESS=Viisu Rahvamaja Viisu mnt 4 Viisu Järva maakond 73202 Eesti;X-APPLE-RADIUS=500;X-TITLE=Viisu mnt 4:geo:25.6654915,58.948499
END:VEVENT
BEGIN:VEVENT
DTSTART;TZID=Europe/Helsinki:20210930T180000
DTEND;TZID=Europe/Helsinki:20210930T190000
DTSTAMP:20260422T105335
CREATED:20210909T131227Z
LAST-MODIFIED:20210909T132144Z
UID:43554-1633024800-1633028400@plmf.ee
SUMMARY:Kuusalu Church concert - Ots / Ots
DESCRIPTION:Neeme Ots (trumpet) and Jaan Ots (piano)\n30th of September at 6 p.m.\nKuusalu Church\nProgramme: Handel\, Rossini\, Brahms\, Arban etc
URL:https://plmf.ee/en/event/kuusalu-kiriku-kontsert-ots-ots/
LOCATION:Kuusalu kirik\, Kuusalu
CATEGORIES:Concerts
ATTACH;FMTTYPE=image/jpeg:https://plmf.ee/wp-content/uploads/2021/09/Kuusalu_30.09_klotsid3.jpg
ORGANIZER;CN="Music Trust PLMF":MAILTO:plmf@plmf.ee
GEO:59.4873216;25.6924111
X-APPLE-STRUCTURED-LOCATION;VALUE=URI;X-ADDRESS=Kuusalu kirik Kuusalu;X-APPLE-RADIUS=500;X-TITLE=Kuusalu:geo:25.6924111,59.4873216
END:VEVENT
BEGIN:VEVENT
DTSTART;TZID=Europe/Helsinki:20210930T160000
DTEND;TZID=Europe/Helsinki:20210930T170000
DTSTAMP:20260422T105335
CREATED:20210911T110641Z
LAST-MODIFIED:20210913T205529Z
UID:43621-1633017600-1633021200@plmf.ee
SUMMARY:Lasnamäe Music School concert - Ots / Ots
DESCRIPTION:Neeme Ots (trumpet) and Jaan Ots (piano)\n30th of September at 4 p.m.\nLasnamäe Music School\nProgramme: Verdi\, Tchaikovski\, Gounod etc.
URL:https://plmf.ee/en/event/lasnamae-muusikakooli-kontsert-ots-ots/
LOCATION:Lasnamäe Muusikakool
CATEGORIES:Concerts
ATTACH;FMTTYPE=image/jpeg:https://plmf.ee/wp-content/uploads/2021/09/Lasnamae_muusikakool_30.09_klotsid2-1.jpg
ORGANIZER;CN="Music Trust PLMF":MAILTO:plmf@plmf.ee
END:VEVENT
BEGIN:VEVENT
DTSTART;TZID=Europe/Helsinki:20210930T123000
DTEND;TZID=Europe/Helsinki:20210930T133000
DTSTAMP:20260422T105335
CREATED:20210912T201957Z
LAST-MODIFIED:20210912T202155Z
UID:43653-1633005000-1633008600@plmf.ee
SUMMARY:Aegviidu School concert - Ots / Ots
DESCRIPTION:Neeme Ots (trumpet) and Jaan Ots (piano)\n30th of September at half past 12 p.m.\nAegviidu School\nProgramme: Handel\, Rossini\, Brahms\, Monti\, Arban etc.
URL:https://plmf.ee/en/event/aegviidu-koolikontsert-ots-ots/
LOCATION:Aegviidu Kool
CATEGORIES:Concerts
ATTACH;FMTTYPE=image/jpeg:https://plmf.ee/wp-content/uploads/2021/09/Ageviidu_30.09_klotsid2.jpg
ORGANIZER;CN="Music Trust PLMF":MAILTO:plmf@plmf.ee
END:VEVENT
BEGIN:VEVENT
DTSTART;TZID=Europe/Helsinki:20210926T180000
DTEND;TZID=Europe/Helsinki:20210926T190000
DTSTAMP:20260422T105335
CREATED:20210827T125339Z
LAST-MODIFIED:20210827T130253Z
UID:43396-1632679200-1632682800@plmf.ee
SUMMARY:Vähi / Paemurru
DESCRIPTION:Kristina Vähi (soprano) and Piia Paemurru (piano)\n26th of September at 6 p.m.\nTori Church\nProgramme: Caccini\, Verdi\, Gounod\, Tosti\, Türnpu etc.
URL:https://plmf.ee/en/event/vahi-paemurru/
LOCATION:Tori kirik\, Tori alevik\, Pärnu\, Tori vald\, 86801\, Eesti
CATEGORIES:Concerts
ATTACH;FMTTYPE=image/jpeg:https://plmf.ee/wp-content/uploads/2021/08/Tori_26.09_Klotsid-kodulehele2.jpg
ORGANIZER;CN="Music Trust PLMF":MAILTO:plmf@plmf.ee
GEO:58.4845523;24.8152048
X-APPLE-STRUCTURED-LOCATION;VALUE=URI;X-ADDRESS=Tori kirik Tori alevik Pärnu Tori vald 86801 Eesti;X-APPLE-RADIUS=500;X-TITLE=Tori alevik:geo:24.8152048,58.4845523
END:VEVENT
BEGIN:VEVENT
DTSTART;TZID=Europe/Helsinki:20210926T120000
DTEND;TZID=Europe/Helsinki:20210926T130000
DTSTAMP:20260422T105335
CREATED:20210827T125843Z
LAST-MODIFIED:20210827T130058Z
UID:43410-1632657600-1632661200@plmf.ee
SUMMARY:Vähi / Paemurru
DESCRIPTION:Kristina Vähi (sopran0) and Piia Paemurru (piano)\n26th of September at 12 p.m.\nCatholic Church in Tapa\nProgramme: Caccini\, Verdi\, Gounod\, Tosti\, Türnpu etc.
URL:https://plmf.ee/en/event/vahi-paemurru-2/
CATEGORIES:Concerts
ATTACH;FMTTYPE=image/jpeg:https://plmf.ee/wp-content/uploads/2021/08/Tapa_26.09_klotsid-kodulehele2.jpg
ORGANIZER;CN="Music Trust PLMF":MAILTO:plmf@plmf.ee
END:VEVENT
BEGIN:VEVENT
DTSTART;TZID=Europe/Helsinki:20210925T130000
DTEND;TZID=Europe/Helsinki:20210925T140000
DTSTAMP:20260422T105335
CREATED:20210812T080539Z
LAST-MODIFIED:20210922T145001Z
UID:42899-1632574800-1632578400@plmf.ee
SUMMARY:Hageri Church - Melnik / Fidelman / Kulikova
DESCRIPTION:Marion Melnik (soprano)\, Liina Fidelman (flute) and Olga Kulikova (piano)\n25th of August at 1 PM\nHageri Church\nProgramme: Schubert\, Merikanto\, Sibelius etc.
URL:https://plmf.ee/en/event/42889/
LOCATION:Hageri kirik
CATEGORIES:Concerts
ATTACH;FMTTYPE=image/jpeg:https://plmf.ee/wp-content/uploads/2021/08/Hageri-kirik_25.09_klots_800x600px2-scaled.jpg
ORGANIZER;CN="Music Trust PLMF":MAILTO:plmf@plmf.ee
END:VEVENT
BEGIN:VEVENT
DTSTART;TZID=Europe/Helsinki:20210925T120000
DTEND;TZID=Europe/Helsinki:20210925T130000
DTSTAMP:20260422T105335
CREATED:20210911T102555Z
LAST-MODIFIED:20210911T103034Z
UID:43599-1632571200-1632574800@plmf.ee
SUMMARY:Jõgeva Parish House concert - Balakin / Randal
DESCRIPTION:Pavlo Balakin (bass-baritone) and Piret Randal (piano)\n25th of September at 12 PM\nJõgeva Parish House\nProgramme: Verdi\, Tchaikovski\, Gounod etc.
URL:https://plmf.ee/en/event/jogeva-kogudusemaja-kontsert-balakin-randal/
LOCATION:jõgeva kogudusemaja\, Aia 7\, Jõgeva\, 48306\, Eesti
CATEGORIES:Concerts
ATTACH;FMTTYPE=image/jpeg:https://plmf.ee/wp-content/uploads/2021/09/Jogeva_kirik_25.09_klotsid2.jpg
ORGANIZER;CN="Music Trust PLMF":MAILTO:plmf@plmf.ee
GEO:58.7459333;26.3915242
X-APPLE-STRUCTURED-LOCATION;VALUE=URI;X-ADDRESS=jõgeva kogudusemaja Aia 7 Jõgeva 48306 Eesti;X-APPLE-RADIUS=500;X-TITLE=Aia 7:geo:26.3915242,58.7459333
END:VEVENT
BEGIN:VEVENT
DTSTART;TZID=Europe/Helsinki:20210919T180000
DTEND;TZID=Europe/Helsinki:20210919T213000
DTSTAMP:20260422T105335
CREATED:20210827T124349Z
LAST-MODIFIED:20210906T130903Z
UID:43382-1632074400-1632087000@plmf.ee
SUMMARY:Chamber of Talents 2021
DESCRIPTION:Chamber of Talents 2021\nUku Suviste and talents\n19th of September at 6 p.m.\nAlexela Concert Hall\nTickets: 13€/8€
URL:https://plmf.ee/en/event/43373/
LOCATION:Alexela Kontserdimaja
CATEGORIES:Chamber of Talents
ATTACH;FMTTYPE=image/jpeg:https://plmf.ee/wp-content/uploads/2021/08/Alexela_19.09_Klotsid_kodulehele_oige2-1-scaled.jpg
ORGANIZER;CN="Music Trust PLMF":MAILTO:plmf@plmf.ee
END:VEVENT
END:VCALENDAR