BEGIN:VCALENDAR
VERSION:2.0
PRODID:-//Pille Lill Music Fund - ECPv6.15.17.1//NONSGML v1.0//EN
CALSCALE:GREGORIAN
METHOD:PUBLISH
X-WR-CALNAME:Pille Lill Music Fund
X-ORIGINAL-URL:https://plmf.ee/en/
X-WR-CALDESC:Events for Pille Lill Music Fund
REFRESH-INTERVAL;VALUE=DURATION:PT1H
X-Robots-Tag:noindex
X-PUBLISHED-TTL:PT1H
BEGIN:VTIMEZONE
TZID:Europe/Helsinki
BEGIN:DAYLIGHT
TZOFFSETFROM:+0200
TZOFFSETTO:+0300
TZNAME:EEST
DTSTART:20250330T010000
END:DAYLIGHT
BEGIN:STANDARD
TZOFFSETFROM:+0300
TZOFFSETTO:+0200
TZNAME:EET
DTSTART:20251026T010000
END:STANDARD
BEGIN:DAYLIGHT
TZOFFSETFROM:+0200
TZOFFSETTO:+0300
TZNAME:EEST
DTSTART:20260329T010000
END:DAYLIGHT
BEGIN:STANDARD
TZOFFSETFROM:+0300
TZOFFSETTO:+0200
TZNAME:EET
DTSTART:20261025T010000
END:STANDARD
BEGIN:DAYLIGHT
TZOFFSETFROM:+0200
TZOFFSETTO:+0300
TZNAME:EEST
DTSTART:20270328T010000
END:DAYLIGHT
BEGIN:STANDARD
TZOFFSETFROM:+0300
TZOFFSETTO:+0200
TZNAME:EET
DTSTART:20271031T010000
END:STANDARD
END:VTIMEZONE
BEGIN:VEVENT
DTSTART;TZID=Europe/Helsinki:20260419T150000
DTEND;TZID=Europe/Helsinki:20260419T170000
DTSTAMP:20260419T180441
CREATED:20260404T143003Z
LAST-MODIFIED:20260404T143328Z
UID:64326-1776610800-1776618000@plmf.ee
SUMMARY:Music Trust PLMF Young Talents Academy concert at Tallinn Town Hall – String Trio
DESCRIPTION:Music Trust PLMF presents\nTallinn Town Hall\n19 April 2026 at 3PM\nYOUNG TALENTS ACADEMY\nString trio featuring Karina Rostovtseva (violin)\, Ali Amishov (viola)\, and\nEkke Rainer Arndt (cello)\nAleksandra Galushkina (piano)\nProgramme: Beethoven\, Schubert\, Chopin\, Pärt and others\nTickets priced at €10/5 available at Piletilevi
URL:https://plmf.ee/en/event/music-trust-plmf-young-talents-academy-concert-at-tallinn-town-hall-string-trio/
LOCATION:Tallinn Town Hall\, Raekoja plats\, Tallinn\, 10146\, Eesti
CATEGORIES:Concerts
ATTACH;FMTTYPE=image/png:https://www.plmf.ee/wp-content/uploads/2026/04/2-32.png
ORGANIZER;CN="Music Trust PLMF":MAILTO:plmf@plmf.ee
GEO:59.4369933;24.745373
X-APPLE-STRUCTURED-LOCATION;VALUE=URI;X-ADDRESS=Tallinn Town Hall Raekoja plats Tallinn 10146 Eesti;X-APPLE-RADIUS=500;X-TITLE=Raekoja plats:geo:24.745373,59.4369933
END:VEVENT
END:VCALENDAR